BEGIN:VCALENDAR
PRODID:NingEventWidget-v1
VERSION:2.0
METHOD:PUBLISH
BEGIN:VTIMEZONE
TZID:America/Los_Angeles
X-LIC-LOCATION:America/Los_Angeles
BEGIN:DAYLIGHT
TZOFFSETFROM:-0800
TZOFFSETTO:-0700
TZNAME:PDT
DTSTART:19700308T020000
RRULE:FREQ=YEARLY;BYMONTH=3;BYDAY=2SU
END:DAYLIGHT
BEGIN:STANDARD
TZOFFSETFROM:-0700
TZOFFSETTO:-0800
TZNAME:PST
DTSTART:19701101T020000
RRULE:FREQ=YEARLY;BYMONTH=11;BYDAY=1SU
END:STANDARD
END:VTIMEZONE
BEGIN:VEVENT
UID:1464587:Event:261090
DTSTAMP:20260420T210350Z
SUMMARY:Con Funk Shun
DESCRIPTION:Con Funk Shun\nDec 27-Dec 29, 2013\n\nPresented by Mark T.
  Elliott and The A-List MUSIQ Circle Your Bay Area's Who's Who Enterta
 inment Network\nFriday, December 27 8pm & 10pm $33\nSaturday, December
  28 7:30pm & 9:30pm $35\nSunday, December 29 7pm $33\n\nFor more infor
 mation visit https://trueskool.com/events/con-funk-shun-1
DTSTART;TZID=America/Los_Angeles:20131227T220000
DTEND;TZID=America/Los_Angeles:20131229T233000
CATEGORIES:oakland
LOCATION:Yoshi's, Oakland
WEBSITE:http://yoshis.inticketing.com/events/343324/Fri%2010pm%20-%20C
 ON%20FUNK%20SHUN
URL:http://yoshis.inticketing.com/events/343324/Fri%2010pm%20-%20CON%2
 0FUNK%20SHUN
CONTACT:
ORGANIZER;CN="Editor's Pick":https://trueskool.com/profile/RentheVinyl
 Archaeologist
ATTACH;FMTTYPE="image/jpeg":http://storage.ning.com/topology/rest/1.0/
 file/get/2247951320?profile=original
ATTENDEE;ROLE=REQ-PARTICIPANT;PARTSTAT=ACCEPTED;RSVP=TRUE;CN="Editor's
  Pick":https://trueskool.com/profile/RentheVinylArchaeologist
END:VEVENT
END:VCALENDAR
