BEGIN:VCALENDAR
PRODID:NingEventWidget-v1
VERSION:2.0
METHOD:PUBLISH
BEGIN:VTIMEZONE
TZID:America/Los_Angeles
X-LIC-LOCATION:America/Los_Angeles
BEGIN:DAYLIGHT
TZOFFSETFROM:-0800
TZOFFSETTO:-0700
TZNAME:PDT
DTSTART:19700308T020000
RRULE:FREQ=YEARLY;BYMONTH=3;BYDAY=2SU
END:DAYLIGHT
BEGIN:STANDARD
TZOFFSETFROM:-0700
TZOFFSETTO:-0800
TZNAME:PST
DTSTART:19701101T020000
RRULE:FREQ=YEARLY;BYMONTH=11;BYDAY=1SU
END:STANDARD
END:VTIMEZONE
BEGIN:VEVENT
UID:1464587:Event:40642
DTSTAMP:20260422T060233Z
SUMMARY:COMMUNITY ROOTS VI- Killah Priest, Bobby Seale, Davey D, and m
 any more!
DESCRIPTION:Come join in the community vibes as we create an epic nigh
 t of amazing music, live art, food, vendors, healing arts and positive
  Bay Area culture!!\n\nCOMMUNITY ROOTS VI\nALL AGES - ALWAYS!!\n\nfeat
 uring:\nKILLAH PRIEST & KENTYAH present INTERSTELLAR DUB COLLECTIVE\n(
 a soundsystem collaboration between Wu Tang Clan family legend and wri
 ter/ producer/ and dj of \"Legba's Light: Spirit of Miles Davis\")\nmy
 space.com/killahpriest\nmyspace.com/legbaslight\n\nwith special appear
 ance by BUKUEONE\n\nThe evening will open with an epic discussion pane
 l titled:\n\"Urban Culture, Music, and Spirituality\" hosted by Kentya
 h\nfeaturing panelists:\nBOBBY SEALE (founding member of the Black Pan
 ther Party)\nDAVEY D (hip hop historian, journalist of Hard Knock Radi
 o)\nKILLAH PRIEST (Emcee of the Wu Tang Clan family)\nDAWN-ELISSA FISC
 HER (a.k.a. the D.E.F. Professor of SFSU, she has traveled extensively
 , working with Hip Hop organizations worldwide )\nBIG DAN (of Brwn Bfl
 o - Chicano Hip Hop storyteller, representing the indigenous latino mo
 vement)\nNIKILA a.k.a. MAMAWISDOM (Hawaiian/Oakland/Native Roots - mot
 her, singer/lyricist, artist, poet, dancer, youth & indigenous advocat
 e)\n\nalso:\n\nBRWN BFLO (Chicano hip hop storytellers, repping inidge
 nous peoples worldwide) myspace.com/brwnbflo\n\nNIKILA a.k.a. MAMAWISD
 OM (live ensemble fusion of spoken word, jazz, neo-soul, dub, hip hop 
 from singer of Goddess Alchemy Project, Hamsa Lila, & PGM)\nmyspace.co
 m/mamawisdommusic\nmyspace.com/goddessalchemyproject\nmyspace.com/proj
 ectgroundationmassive\n\nRAW-G +STEELO=VOMITO LIRIKO (mother+father+so
 n =latino hip hop family bringing a special opening piece)\n\nLive art
  by ANDREASONE & RAS TERMS\nmyspace.com/peacefits\nmyspace.com/rasterm
 s\n\nBeatZ by DJ SoulZ\n\nSliding Scale starts at $12\n(your support h
 elps Community Roots expand it's next level of production to bring you
  quality events rooted in uplifting Urban Culture, Community Education
 , & Healing Arts)\n\nLimited Capacity - advanced ticket sales assure y
 our entry - available online at:\nwww.ashkenaz.com\nor at THE OLD CROW
  Tattoo Shop - 362 Grand Ave Oakland 510.834.CROW\n\nfor more info vis
 it: myspace.com/communityroots\n\n\nFor more information visit https:/
 /trueskool.com/events/community-roots-vi-killah
DTSTART;TZID=America/Los_Angeles:20090913T193000
DTEND;TZID=America/Los_Angeles:20090914T013000
CATEGORIES:hip, hop, live, music, art, speakers, food, culture
LOCATION:Ashkenaz, Berkeley
WEBSITE:http://www.ashkenaz.com
URL:http://www.ashkenaz.com
CONTACT:
ORGANIZER;CN="Community Roots":https://trueskool.com/profile/Community
 Roots
ATTACH;FMTTYPE="image/jpeg":http://storage.ning.com/topology/rest/1.0/
 file/get/2247863807?profile=original
ATTENDEE;ROLE=REQ-PARTICIPANT;PARTSTAT=ACCEPTED;RSVP=TRUE;CN="Communit
 y Roots":https://trueskool.com/profile/CommunityRoots
END:VEVENT
END:VCALENDAR
