BEGIN:VCALENDAR
PRODID:NingEventWidget-v1
VERSION:2.0
METHOD:PUBLISH
BEGIN:VTIMEZONE
TZID:America/Los_Angeles
X-LIC-LOCATION:America/Los_Angeles
BEGIN:DAYLIGHT
TZOFFSETFROM:-0800
TZOFFSETTO:-0700
TZNAME:PDT
DTSTART:19700308T020000
RRULE:FREQ=YEARLY;BYMONTH=3;BYDAY=2SU
END:DAYLIGHT
BEGIN:STANDARD
TZOFFSETFROM:-0700
TZOFFSETTO:-0800
TZNAME:PST
DTSTART:19701101T020000
RRULE:FREQ=YEARLY;BYMONTH=11;BYDAY=1SU
END:STANDARD
END:VTIMEZONE
BEGIN:VEVENT
UID:1464587:Event:50042
DTSTAMP:20260421T003101Z
SUMMARY:Common. N.E.R.D., The Black Keys, Les Claypool (Win Tickets)
DESCRIPTION:CLICK HERE TO WIN A PAIR OF TICKETS\n\n\nYURI'S NIGHT BAY 
 AREA 2010\nFREE SCIENCE & SPACE EDUCATION DAY FOR YOUTH\n+ FULL INTERA
 CTIVE MUSIC FESTIVAL THE NEXT DAY!!! HIP-HOP.COM LAUNCH EVENT @ NASA A
 MES RESEARCH CENTER!!!\n\nFeaturing:\nTHE BLACK KEYS\nCOMMON\nLES CLAY
 POOL\nN.E.R.D.\n\nPlus: Q-Bert, The Glitch Mob, Hamsa Lila, Shortkut &
  Supernatural, DJ Apollo, Bayonics, plus many more...\n\n@ NASA Ames R
 esearch Ctr. (Moffett Field), Mountain View, CA\n\nCLICK HERE FOR ADVA
 NCE TICKETS:\nEnter Discount Code \"True Skool\" to get $10 Off\nhttp:
 //yurisnight2010-trueskool.eventbrite.com\n\nFor More Info Go To\nhttp
 ://www.YNBA.org\n\n\nFor more information visit https://trueskool.com/
 events/common-nerd-the-black-keys-les
DTSTART;TZID=America/Los_Angeles:20100410T120000
DTEND;TZID=America/Los_Angeles:20100411T000000
CATEGORIES:hip, hop
LOCATION:NASA Ames Research Center (Moffett Field), Mountain View, CA
WEBSITE:http://yurisnight2010-hiphopdotcom.eventbrite.com/
URL:http://yurisnight2010-hiphopdotcom.eventbrite.com/
CONTACT:
ORGANIZER:Yuri's Night
ATTACH;FMTTYPE="image/jpeg":http://storage.ning.com/topology/rest/1.0/
 file/get/2247846714?profile=original
ATTENDEE;ROLE=REQ-PARTICIPANT;PARTSTAT=ACCEPTED;RSVP=TRUE;CN=Adia:http
 s://trueskool.com/profile/Adia
ATTENDEE;ROLE=REQ-PARTICIPANT;PARTSTAT=ACCEPTED;RSVP=TRUE;CN="Ren the 
 Vinyl Archaeologist":https://trueskool.com/profile/xh51jvilojur
ATTENDEE;ROLE=REQ-PARTICIPANT;PARTSTAT=ACCEPTED;RSVP=TRUE;CN="Helen R.
  Wu":https://trueskool.com/profile/HelenRWu
ATTENDEE;ROLE=REQ-PARTICIPANT;PARTSTAT=TENTATIVE;RSVP=TRUE;CN="takumi 
 suzuki":https://trueskool.com/profile/takumisuzuki
END:VEVENT
END:VCALENDAR
