BEGIN:VCALENDAR
PRODID:NingEventWidget-v1
VERSION:2.0
METHOD:PUBLISH
BEGIN:VTIMEZONE
TZID:America/Los_Angeles
X-LIC-LOCATION:America/Los_Angeles
BEGIN:DAYLIGHT
TZOFFSETFROM:-0800
TZOFFSETTO:-0700
TZNAME:PDT
DTSTART:19700308T020000
RRULE:FREQ=YEARLY;BYMONTH=3;BYDAY=2SU
END:DAYLIGHT
BEGIN:STANDARD
TZOFFSETFROM:-0700
TZOFFSETTO:-0800
TZNAME:PST
DTSTART:19701101T020000
RRULE:FREQ=YEARLY;BYMONTH=11;BYDAY=1SU
END:STANDARD
END:VTIMEZONE
BEGIN:VEVENT
UID:1464587:Event:451842
DTSTAMP:20260421T010435Z
SUMMARY:Common Kings w/ Maoli, Tenelle, Bayonics (WIN TICKETS)
DESCRIPTION:\n\nThursday, November 6th Earshot Entertainment Presents\
 nCommon Kings @ Mezzanine SF (444 Jessie)\nw/ Bayonics, Sam Johnson (S
 F), DJ SMOKE-1\nHosted by Big Body Cisco (Big Body Radio)\nDoors 9pm -
  21+\n\nCommon Kings produce phenomenal pop hits with rock, reggae, R&
 B and classic soul influences. Lead singer JR King (Hawaii/Samoa), gui
 tarist Taumata Grey (Samoa), bassist Ivan Kirimaua (Fiji/Kiribati), an
 d drummer Jerome Taito (Tonga) grew up in dynamic households filled wi
 th vibrant passion for music. The Kings individual musical journeys we
 re inspired by artists like Musiq Soulchild, Raphael Saadiq, D'Angelo,
  Van Morrison, Stevie Wonder, George Benson, Jim Croce, Michael Jackso
 n, The Who, Led Zeppelin, Gypsy Kings, Earth Wind & Fire, Maroon 5 and
  many traditional artists from the islands. The band’s resulting ori
 ginal sound is a collection of these varied musical and cultural inspi
 rations orchestrated into an array of head-rocking beats, feel-good rh
 ythms, and emotional fervor. Their fun-loving attitude and \"good vibe
 s\" high energy projects loud and clear during Common Kings’ live pe
 rformance experience. With lead-singer Sasualei “JR King” Maliga i
 n the forefront, Common Kings possesses one of the most naturally gift
 ed and powerfully impressive singers in the game today. Graced with a 
 distinctive, raw, organic talent, JR’s vocal ability appears boundle
 ss as he amazes listeners with his welcoming tone, wide range of rich 
 notes, infectious melodies, and soulful passion. In the studio daily r
 ecording their first Common Kings EP, writing like mad with incredible
  producers and shooting hot new videos, their \"formative years\" as p
 rinces have come to a close and the Common Kings are stepping into the
 ir royal rule. You want to follow these leaders.\nFB: commonkingsmusic
  | Twitter: commonkings | www.commonkings.com\n\nBayonics are a 10-pie
 ce powerhouse combining hip hop, funk and r&b with elements of Latin m
 usic and reggae to create a sound that reflects the emerging face of u
 rban music and culture on the West Coast and abroad.\n\nSam Johnson ha
 s been ranked as the #1 Pop/Rock Singer-Songwriter in the San Francisc
 o Bay Area for 19 weeks since April 2013, according to the popular ind
 ependent musicians’ website ReverbNation. His original music current
 ly appears in shows on MTV, Bravo, HGTV, and FOX.\n\nSam's style is la
 id back and soulful, and he describes it as \"quintessential Californi
 a music.\" If you are a fan of Jack Johnson, John Mayer, Jason Mraz, o
 r Bruno Mars, his mix of well-known and original songs will make you f
 eel right at home.\n\nFor more information visit https://trueskool.com
 /events/common-kings-w-maoli-tenelle-bayonics-win-tickets
DTSTART;TZID=America/Los_Angeles:20141106T210000
DTEND;TZID=America/Los_Angeles:20141107T010000
CATEGORIES:san, francisco, bay, area
LOCATION:Mezzanine. San Francisco, CA
WEBSITE:http://www.ticketfly.com/event/688103
URL:http://www.ticketfly.com/event/688103
CONTACT:
ORGANIZER:Earshot Entertainment
ATTACH;FMTTYPE="image/jpeg":http://storage.ning.com/topology/rest/1.0/
 file/get/2247969057?profile=original
ATTENDEE;ROLE=REQ-PARTICIPANT;PARTSTAT=ACCEPTED;RSVP=TRUE;CN=Frost:htt
 ps://trueskool.com/profile/Frost
ATTENDEE;ROLE=REQ-PARTICIPANT;PARTSTAT=ACCEPTED;RSVP=TRUE;CN="Lisette 
 Cervano":https://trueskool.com/profile/LisetteCervano
ATTENDEE;ROLE=REQ-PARTICIPANT;PARTSTAT=ACCEPTED;RSVP=TRUE;CN="Frank Vi
 loria":https://trueskool.com/profile/DJILLusive
ATTENDEE;ROLE=REQ-PARTICIPANT;PARTSTAT=ACCEPTED;RSVP=TRUE;CN="Editor's
  Pick":https://trueskool.com/profile/RentheVinylArchaeologist
END:VEVENT
END:VCALENDAR
