BEGIN:VCALENDAR
PRODID:NingEventWidget-v1
VERSION:2.0
METHOD:PUBLISH
BEGIN:VTIMEZONE
TZID:America/Los_Angeles
X-LIC-LOCATION:America/Los_Angeles
BEGIN:DAYLIGHT
TZOFFSETFROM:-0800
TZOFFSETTO:-0700
TZNAME:PDT
DTSTART:19700308T020000
RRULE:FREQ=YEARLY;BYMONTH=3;BYDAY=2SU
END:DAYLIGHT
BEGIN:STANDARD
TZOFFSETFROM:-0700
TZOFFSETTO:-0800
TZNAME:PST
DTSTART:19701101T020000
RRULE:FREQ=YEARLY;BYMONTH=11;BYDAY=1SU
END:STANDARD
END:VTIMEZONE
BEGIN:VEVENT
UID:1464587:Event:444325
DTSTAMP:20260421T011004Z
SUMMARY:Common Kings @ Mezzanine w/Bayonics & more!
DESCRIPTION:\nThursday, November 6th Earshot Entertainment Presents Co
 mmon Kings @ Mezzanine SF (444 Jessie) w/ /Bayonics, Sam Johnson (SF),
  DJ SMOKE-1 Hosted by Big Body Cisco (Big Body Radio) Doors 9pm - 21+ 
  Common Kings produce phenomenal pop hits with rock, reggae, R&B and c
 lassic soul influences. Lead singer JR King (Hawaii/Samoa), guitarist 
 Taumata Grey (Samoa), bassist Ivan Kirimaua (Fiji/Kiribati), and drumm
 er Jerome Taito (Tonga) grew up in dynamic households filled with vibr
 ant passion for music. The Kings individual musical journeys were insp
 ired by artists like Musiq Soulchild, Raphael Saadiq, D'Angelo, Van Mo
 rrison, Stevie Wonder, George Benson, Jim Croce, Michael Jackson, The 
 Who, Led Zeppelin, Gypsy Kings, Earth Wind & Fire, Maroon 5 and many t
 raditional artists from the islands. The band’s resulting original s
 ound is a collection of these varied musical and cultural inspirations
  orchestrated into an array of head-rocking beats, feel-good rhythms, 
 and emotional fervor. Their fun-loving attitude and \"good vibes\" hig
 h energy projects loud and clear during Common Kings’ live performan
 ce experience. With lead-singer Sasualei “JR King” Maliga in the f
 orefront, Common Kings possesses one of the most naturally gifted and 
 powerfully impressive singers in the game today. Graced with a distinc
 tive, raw, organic talent, JR’s vocal ability appears boundless as h
 e amazes listeners with his welcoming tone, wide range of rich notes, 
 infectious melodies, and soulful passion. In the studio daily recordin
 g their first Common Kings EP, writing like mad with incredible produc
 ers and shooting hot new videos, their \"formative years\" as princes 
 have come to a close and the Common Kings are stepping into their roya
 l rule. You want to follow these leaders.  FB: commonkingsmusic | Twi
 tter: commonkings | www.commonkings.com<http://www.commonkings.com/>
   Bayonics are a 10-piece powerhouse combining hip hop, funk and r&b 
 with elements of Latin music and reggae to create a sound that reflect
 s the emerging face of urban music and culture on the West Coast and a
 broad.   Sam Johnson has been ranked as the #1 Pop/Rock Singer-Songwr
 iter in the San Francisco Bay Area for 19 weeks since April 2013, acco
 rding to the popular independent musicians’ website ReverbNation. Hi
 s original music currently appears in shows on MTV, Bravo, HGTV, and F
 OX.   Sam's style is laid back and soulful, and he describes it as \"
 quintessential California music.\" If you are a fan of Jack Johnson, J
 ohn Mayer, Jason Mraz, or Bruno Mars, his mix of well-known and origin
 al songs will make you feel right at home.\n\nFor more information vis
 it https://trueskool.com/events/common-kings-mezzanine-w-bayonics-more
DTSTART;TZID=America/Los_Angeles:20141106T210000
DTEND;TZID=America/Los_Angeles:20141107T010000
CATEGORIES:san, francisco, bay, area
LOCATION:Mezzanine. San Francisco, CA
WEBSITE:http://www.ticketfly.com/event/688103
URL:http://www.ticketfly.com/event/688103
CONTACT:
ORGANIZER;CN="Earshot Entertainment":https://trueskool.com/profile/Ear
 shotEntertainment
ATTACH;FMTTYPE="image/jpeg":http://storage.ning.com/topology/rest/1.0/
 file/get/2247969057?profile=original
ATTENDEE;ROLE=REQ-PARTICIPANT;PARTSTAT=ACCEPTED;RSVP=TRUE;CN="Akua Mic
 helle":https://trueskool.com/profile/AkuaMichelle
ATTENDEE;ROLE=REQ-PARTICIPANT;PARTSTAT=ACCEPTED;RSVP=TRUE;CN="Earshot 
 Entertainment":https://trueskool.com/profile/EarshotEntertainment
END:VEVENT
END:VCALENDAR
