BEGIN:VCALENDAR
PRODID:NingEventWidget-v1
VERSION:2.0
METHOD:PUBLISH
BEGIN:VTIMEZONE
TZID:America/Los_Angeles
X-LIC-LOCATION:America/Los_Angeles
BEGIN:DAYLIGHT
TZOFFSETFROM:-0800
TZOFFSETTO:-0700
TZNAME:PDT
DTSTART:19700308T020000
RRULE:FREQ=YEARLY;BYMONTH=3;BYDAY=2SU
END:DAYLIGHT
BEGIN:STANDARD
TZOFFSETFROM:-0700
TZOFFSETTO:-0800
TZNAME:PST
DTSTART:19701101T020000
RRULE:FREQ=YEARLY;BYMONTH=11;BYDAY=1SU
END:STANDARD
END:VTIMEZONE
BEGIN:VEVENT
UID:1464587:Event:444541
DTSTAMP:20260421T021757Z
SUMMARY:Common 11/14 [LA]
DESCRIPTION:\nCommon\n\n\nHouse of Blues Sunset Strip West Hollywood, 
 CA\n\nMon, 11/24/14 07:00 PM\n\nSee Ticketson Live Nation\n\n\n\n\n\n\
 nFor more information visit https://trueskool.com/events/common-11-14-
 la
DTSTART;TZID=America/Los_Angeles:20141124T190000
DTEND;TZID=America/Los_Angeles:20141124T230000
CATEGORIES:"los angeles"
LOCATION:House of Blues Sunset Strip West Hollywood, CA
WEBSITE:http://www.ticketmaster.com/partner_redirect?v=ij6S4KMYR59kj0l
 VCDX1tqaYQSB-OSy09rbxqEywLsGuyj76hSP7bSzHuCVbc4U-Cjr8KM4LnYWN0n1NHG1Pe
 37bOyNRh7VUZukF6ff4MYHceWBoSvsSR9N6Pnielv6PRcJH5A&eventid=09004D43BB81
 9035&artistid=797257&artistname=Common&crosssite=TM_US:797257:73807&tm
 _link=browse_msg-0_09004D43BB819035
URL:http://www.ticketmaster.com/partner_redirect?v=ij6S4KMYR59kj0lVCDX
 1tqaYQSB-OSy09rbxqEywLsGuyj76hSP7bSzHuCVbc4U-Cjr8KM4LnYWN0n1NHG1Pe37bO
 yNRh7VUZukF6ff4MYHceWBoSvsSR9N6Pnielv6PRcJH5A&eventid=09004D43BB819035
 &artistid=797257&artistname=Common&crosssite=TM_US:797257:73807&tm_lin
 k=browse_msg-0_09004D43BB819035
CONTACT:
ORGANIZER:Editor's Pick
ATTACH;FMTTYPE="image/jpeg":http://storage.ning.com/topology/rest/1.0/
 file/get/2247969822?profile=original
ATTENDEE;ROLE=REQ-PARTICIPANT;PARTSTAT=ACCEPTED;RSVP=TRUE;CN="Ren the 
 Vinyl Archaeologist":https://trueskool.com/profile/xh51jvilojur
END:VEVENT
END:VCALENDAR
