BEGIN:VCALENDAR
PRODID:NingEventWidget-v1
VERSION:2.0
METHOD:PUBLISH
BEGIN:VTIMEZONE
TZID:America/Los_Angeles
X-LIC-LOCATION:America/Los_Angeles
BEGIN:DAYLIGHT
TZOFFSETFROM:-0800
TZOFFSETTO:-0700
TZNAME:PDT
DTSTART:19700308T020000
RRULE:FREQ=YEARLY;BYMONTH=3;BYDAY=2SU
END:DAYLIGHT
BEGIN:STANDARD
TZOFFSETFROM:-0700
TZOFFSETTO:-0800
TZNAME:PST
DTSTART:19701101T020000
RRULE:FREQ=YEARLY;BYMONTH=11;BYDAY=1SU
END:STANDARD
END:VTIMEZONE
BEGIN:VEVENT
UID:1464587:Event:505350
DTSTAMP:20260421T094713Z
SUMMARY:Come Correct RECORD RELEASE SHOW for Devi Genuone
DESCRIPTION:The day has finally come!!   Devi Genuone's Come Correct 
 Album Release Show!  presales STRONGLY encouraged ONLY 7 BUCKS!http://
 www.eventbrite.com/e/come-correct-record-release-show-tickets-14904705
 375   Doors 9:30pm  1st Set: 10pm Karina Nistal 2nd Set: 10:45pm Dev
 i Genuone w/live band 3rd Set: 11:45pm AIMA THE DREAMER with support f
 rom DJ LadyRyan\nDevi Genuone's talent is undeniable; blending soul, j
 azz & reggae influences to create a signature sound. She’s got that 
 Southern swagger and incredible pipes to match. Her flavor of hip-hop 
 with the tinge of electronica, that ‘boom bap slap’ as she says, i
 s timeless with no limits. Her name stands for Divinely Evolving Vibra
 nce Infinitely Guiding Elevated NOWledge Unconditionally from the One,
  one light, one love. That spiritual mantra describes her music to a t
 ee. She’s spent her life searching for that perfect rhythm, developi
 ng her craft and honing her technique, shaping the music that lives wi
 thin her soul. She'll be performing with her 4 piece live band includi
 ng Jake Nochimow aka EAR MONSTER of Modern Future on drums, Adam Lipsk
 y on Keys & Charlie Guidry on bass. Not to be missed!\n\nFor more info
 rmation visit https://trueskool.com/events/come-correct-record-release
 -show-for-devi-genuone
DTSTART;TZID=America/Los_Angeles:20150123T213000
DTEND;TZID=America/Los_Angeles:20150124T013000
CATEGORIES:oakland, "devi genuone", "come correct", "aima the dreamer"
 , "karina nistal", "dj ladyryan", female, "record release"
LOCATION:The Legionnaire Saloon, Oakland, CA
WEBSITE:http://www.eventbrite.com/e/come-correct-record-release-show-t
 ickets-14904705375
URL:http://www.eventbrite.com/e/come-correct-record-release-show-ticke
 ts-14904705375
CONTACT:4156581368
ORGANIZER;CN="Devi Genuone":https://trueskool.com/profile/DeviGenuone
ATTACH;FMTTYPE="image/jpeg":http://storage.ning.com/topology/rest/1.0/
 file/get/2247972031?profile=original
ATTENDEE;ROLE=REQ-PARTICIPANT;PARTSTAT=ACCEPTED;RSVP=TRUE;CN="Devi Gen
 uone":https://trueskool.com/profile/DeviGenuone
END:VEVENT
END:VCALENDAR
