BEGIN:VCALENDAR
PRODID:NingEventWidget-v1
VERSION:2.0
METHOD:PUBLISH
BEGIN:VTIMEZONE
TZID:America/Los_Angeles
X-LIC-LOCATION:America/Los_Angeles
BEGIN:DAYLIGHT
TZOFFSETFROM:-0800
TZOFFSETTO:-0700
TZNAME:PDT
DTSTART:19700308T020000
RRULE:FREQ=YEARLY;BYMONTH=3;BYDAY=2SU
END:DAYLIGHT
BEGIN:STANDARD
TZOFFSETFROM:-0700
TZOFFSETTO:-0800
TZNAME:PST
DTSTART:19701101T020000
RRULE:FREQ=YEARLY;BYMONTH=11;BYDAY=1SU
END:STANDARD
END:VTIMEZONE
BEGIN:VEVENT
UID:1464587:Event:27783
DTSTAMP:20260421T005740Z
SUMMARY:Collie Buddz with the New Kingston Band / Devin the Dude / Pep
  Love
DESCRIPTION:Collie Buddz with the New Kingston Band / Devin the Dude /
  Pep Love\n\nShattuck Down Low\nBerkeley, CA\nSun, 04/19/09\n07:00 PM\
 n\nFor more information visit https://trueskool.com/events/collie-budd
 z-with-the-new
DTSTART;TZID=America/Los_Angeles:20090419T190000
DTEND;TZID=America/Los_Angeles:20090420T020000
CATEGORIES:reggae, dancehall, hip, hop
LOCATION:Shattuck Downlow, Berkeley
WEBSITE:http://www.ticketmaster.com/Collie-Buddz-with-the-New-Kingston
 -Band-Devin-the-Dude-Pep-Love-tickets/artist/1294265
URL:http://www.ticketmaster.com/Collie-Buddz-with-the-New-Kingston-Ban
 d-Devin-the-Dude-Pep-Love-tickets/artist/1294265
CONTACT:
ORGANIZER:Shattuck Downlow
ATTACH;FMTTYPE="image/jpeg":http://storage.ning.com/topology/rest/1.0/
 file/get/2247847997?profile=original
ATTENDEE;ROLE=REQ-PARTICIPANT;PARTSTAT=ACCEPTED;RSVP=TRUE;CN="Editor's
  Pick":https://trueskool.com/profile/RentheVinylArchaeologist
ATTENDEE;ROLE=REQ-PARTICIPANT;PARTSTAT=TENTATIVE;RSVP=TRUE;CN=weezee:h
 ttps://trueskool.com/profile/Denise
END:VEVENT
END:VCALENDAR
