BEGIN:VCALENDAR
PRODID:NingEventWidget-v1
VERSION:2.0
METHOD:PUBLISH
BEGIN:VTIMEZONE
TZID:America/Los_Angeles
X-LIC-LOCATION:America/Los_Angeles
BEGIN:DAYLIGHT
TZOFFSETFROM:-0800
TZOFFSETTO:-0700
TZNAME:PDT
DTSTART:19700308T020000
RRULE:FREQ=YEARLY;BYMONTH=3;BYDAY=2SU
END:DAYLIGHT
BEGIN:STANDARD
TZOFFSETFROM:-0700
TZOFFSETTO:-0800
TZNAME:PST
DTSTART:19701101T020000
RRULE:FREQ=YEARLY;BYMONTH=11;BYDAY=1SU
END:STANDARD
END:VTIMEZONE
BEGIN:VEVENT
UID:1464587:Event:66168
DTSTAMP:20260420T143718Z
SUMMARY:Collie Buddz & New Kingston
DESCRIPTION:CLICK HERE TO WIN TICKETS:\nhttp://www.trueskool.com/group
 /wintickets\n\nCollie Buddz & New Kingston\nThe Holdup\n\nThe Independ
 ent\n628 Divisadero (btwn Grove & Hayes)\nSan Francisco CA 94117\nshow
  9:00PM\npurchase tickets\n \n\nFor more information visit https://tru
 eskool.com/events/collie-buddz-new-kingston
DTSTART;TZID=America/Los_Angeles:20101111T210000
DTEND;TZID=America/Los_Angeles:20101112T020000
CATEGORIES:san, francisco, ca
LOCATION:The Indepedent, San Francisco, CA
WEBSITE:http://www.apeconcerts.com/popArtist07.cfm?cID=2723
URL:http://www.apeconcerts.com/popArtist07.cfm?cID=2723
CONTACT:
ORGANIZER:Another Planet Entertainment
ATTACH;FMTTYPE="image/jpeg":http://storage.ning.com/topology/rest/1.0/
 file/get/2247883838?profile=original
ATTENDEE;ROLE=REQ-PARTICIPANT;PARTSTAT=ACCEPTED;RSVP=TRUE;CN="Ren the 
 Vinyl Archaeologist":https://trueskool.com/profile/xh51jvilojur
END:VEVENT
END:VCALENDAR
