BEGIN:VCALENDAR
PRODID:NingEventWidget-v1
VERSION:2.0
METHOD:PUBLISH
BEGIN:VTIMEZONE
TZID:America/Los_Angeles
X-LIC-LOCATION:America/Los_Angeles
BEGIN:DAYLIGHT
TZOFFSETFROM:-0800
TZOFFSETTO:-0700
TZNAME:PDT
DTSTART:19700308T020000
RRULE:FREQ=YEARLY;BYMONTH=3;BYDAY=2SU
END:DAYLIGHT
BEGIN:STANDARD
TZOFFSETFROM:-0700
TZOFFSETTO:-0800
TZNAME:PST
DTSTART:19701101T020000
RRULE:FREQ=YEARLY;BYMONTH=11;BYDAY=1SU
END:STANDARD
END:VTIMEZONE
BEGIN:VEVENT
UID:1464587:Event:38785
DTSTAMP:20260421T000411Z
SUMMARY:Collie Buddz and The New Kingston Band Devin The Dude
DESCRIPTION:Collie Buddz and The New Kingston Band\nDevin The Dude\n\n
 THE INDEPENDENT - 628 DIVISADERO STREET - SAN FRANCISCO, CA - 415.771.
 1421\nBOOKING QUESTIONS • ALL SHOWS 21 AND OVER\nDoors 8:30 PM | Sho
 w 9 PM\nTickets $28\nBuy Tickets\n\nFor more information visit https:/
 /trueskool.com/events/collie-buddz-and-the-new
DTSTART;TZID=America/Los_Angeles:20100417T203000
DTEND;TZID=America/Los_Angeles:20100417T230000
CATEGORIES:dancehall, reggae
LOCATION:THE INDEPENDENT - SAN FRANCISCO, CA
WEBSITE:http://www.ticketweb.com/snl/CalendarListings.action?venueId=t
 heindependentsf&month=9&year=2009
URL:http://www.ticketweb.com/snl/CalendarListings.action?venueId=thein
 dependentsf&month=9&year=2009
CONTACT:
ORGANIZER:Another Planet Entertainment
ATTACH;FMTTYPE="image/jpeg":http://storage.ning.com/topology/rest/1.0/
 file/get/2247847997?profile=original
ATTENDEE;ROLE=REQ-PARTICIPANT;PARTSTAT=ACCEPTED;RSVP=TRUE;CN="caramel 
 queen":https://trueskool.com/profile/caramelqueen
ATTENDEE;ROLE=REQ-PARTICIPANT;PARTSTAT=ACCEPTED;RSVP=TRUE;CN="Ren the 
 Vinyl Archaeologist":https://trueskool.com/profile/xh51jvilojur
ATTENDEE;ROLE=REQ-PARTICIPANT;PARTSTAT=TENTATIVE;RSVP=TRUE;CN="Skinny 
 Jakins":https://trueskool.com/profile/SalvatoreGermano
END:VEVENT
END:VCALENDAR
