BEGIN:VCALENDAR
PRODID:NingEventWidget-v1
VERSION:2.0
METHOD:PUBLISH
BEGIN:VTIMEZONE
TZID:America/Los_Angeles
X-LIC-LOCATION:America/Los_Angeles
BEGIN:DAYLIGHT
TZOFFSETFROM:-0800
TZOFFSETTO:-0700
TZNAME:PDT
DTSTART:19700308T020000
RRULE:FREQ=YEARLY;BYMONTH=3;BYDAY=2SU
END:DAYLIGHT
BEGIN:STANDARD
TZOFFSETFROM:-0700
TZOFFSETTO:-0800
TZNAME:PST
DTSTART:19701101T020000
RRULE:FREQ=YEARLY;BYMONTH=11;BYDAY=1SU
END:STANDARD
END:VTIMEZONE
BEGIN:VEVENT
UID:1464587:Event:54284
DTSTAMP:20260420T145354Z
SUMMARY:Collie Buddz 420 Concert
DESCRIPTION:CLICK HERE TO WIN A PAIR OF TICKETS\n\n\nTUESDAY, APRIL 20
 \nCollie Buddz 420 Concert\n\nwith guests\nWisdom\nTop Shelf\n\n@ Shat
 tuck Downlow, 2484 Shattuck Ave., Berkeley\n21+. doors at 9pm. Tickets
  $25.00 adv / $30 door\nEnter Discount Code \"True Skool\" for $20 adv
  tix\nBuy Tickets\n\nFor more information visit https://trueskool.com/
 events/collie-buddz-420-concert
DTSTART;TZID=America/Los_Angeles:20100420T210000
DTEND;TZID=America/Los_Angeles:20100421T020000
CATEGORIES:reggae, dancehall
LOCATION:Shattuck Downlow, Berkeley
WEBSITE:http://ineffablerecords.inticketing.com/evinfo.php?eventid=933
 62
URL:http://ineffablerecords.inticketing.com/evinfo.php?eventid=93362
CONTACT:
ORGANIZER:Ineffable Music Group
ATTACH;FMTTYPE="image/jpeg":http://storage.ning.com/topology/rest/1.0/
 file/get/2247847997?profile=original
ATTENDEE;ROLE=REQ-PARTICIPANT;PARTSTAT=ACCEPTED;RSVP=TRUE;CN="Ren the 
 Vinyl Archaeologist":https://trueskool.com/profile/xh51jvilojur
END:VEVENT
END:VCALENDAR
