BEGIN:VCALENDAR
PRODID:NingEventWidget-v1
VERSION:2.0
METHOD:PUBLISH
BEGIN:VTIMEZONE
TZID:America/Los_Angeles
X-LIC-LOCATION:America/Los_Angeles
BEGIN:DAYLIGHT
TZOFFSETFROM:-0800
TZOFFSETTO:-0700
TZNAME:PDT
DTSTART:19700308T020000
RRULE:FREQ=YEARLY;BYMONTH=3;BYDAY=2SU
END:DAYLIGHT
BEGIN:STANDARD
TZOFFSETFROM:-0700
TZOFFSETTO:-0800
TZNAME:PST
DTSTART:19701101T020000
RRULE:FREQ=YEARLY;BYMONTH=11;BYDAY=1SU
END:STANDARD
END:VTIMEZONE
BEGIN:VEVENT
UID:1464587:Event:55177
DTSTAMP:20260421T053528Z
SUMMARY:Co-Lab Vo.2 Local Artist Basement
DESCRIPTION:FUX ENT.\npresents Co-LAB (Local Artist Basement) \"The Oa
 kland Renaissance\", is a\nshow that targets Bay Area grown local tale
 nt behind one band in a\nnight of filled with live music, MIXTAPE STYL
 E! “The Oakland\nRenaissance” is not a depiction or duplication of
  other movements\nas this is a culture of Oakland. This is one of the 
 first nationwide\nshowcases for poets, visual artists and musicians to
  perform raw, streetwise\nmaterial without censorship or interference.
  Co-LAB vol. 2 \"The Oakland Renaissance\" will\ncapture the essence o
 f the glamorous and not so glamorous side of the\nart scene in Oakland
 .\nIn\nthe second rendition of Co-LAB vol. 2 \"The Oakland Renaissance
 \", we are\nfeaturing up and coming artist, Fiona Simone, who will be 
 dropping her\nnew Album entitled \"Ladies Room.\" Check her out @ www.
 myspace.com/fionasimone & or http://tomboyfreshness.ning.com\n\n\nCo-L
 AB (Local Artist Basement) artist also include: Isis Genisis, SiairaSh
 awn,\nMs. K, NU Dacades, Do D.A.T., Michelangelo, Jonah (So Timeless),
  Sean\nBo, Krystle Azul and a guest appearance by League 510 all backe
 d behind\nthe Co-LAB house band.\n\n\"The Oakland Renaissance” will 
 thrive and get fire from\nthe controversy of being truthful with the c
 ity of Oakland, while showing\nwhy Oakland is the Heart and Soul Of Th
 e Bay Area. If there is a message that\nneeds to get out to the masses
  then a member of “The Oakland Renaissance\"\nwill give it to you ra
 w and uncut…from an edgy, yet literary perspective.\nWe dare not to 
 be imitators, rather, initiators of a old sound but with a new flavor.
 \n\n\nSunday April 25th @ The New Parish (579 18th Street, Oakland)\n\
 n\nDoors open @ 8pm / Show @ 9pmPresale Tickets $7.00 on-line / Door $
 11.00\n\nFor more information visit https://trueskool.com/events/colab
 -vo2-local-artist
DTSTART;TZID=America/Los_Angeles:20100425T200000
DTEND;TZID=America/Los_Angeles:20100426T020000
CATEGORIES:hiphop, "r&b"
LOCATION:The New Paish, Oakland, CA
WEBSITE:http://colab2-efbevent.eventbrite.com/
URL:http://colab2-efbevent.eventbrite.com/
CONTACT:
ORGANIZER:FUX ENT.
ATTACH;FMTTYPE="image/jpeg":http://storage.ning.com/topology/rest/1.0/
 file/get/2247877221?profile=original
ATTENDEE;ROLE=REQ-PARTICIPANT;PARTSTAT=ACCEPTED;RSVP=TRUE;CN=Trent:htt
 ps://trueskool.com/profile/Trent
END:VEVENT
END:VCALENDAR
