BEGIN:VCALENDAR
PRODID:NingEventWidget-v1
VERSION:2.0
METHOD:PUBLISH
BEGIN:VTIMEZONE
TZID:America/Los_Angeles
X-LIC-LOCATION:America/Los_Angeles
BEGIN:DAYLIGHT
TZOFFSETFROM:-0800
TZOFFSETTO:-0700
TZNAME:PDT
DTSTART:19700308T020000
RRULE:FREQ=YEARLY;BYMONTH=3;BYDAY=2SU
END:DAYLIGHT
BEGIN:STANDARD
TZOFFSETFROM:-0700
TZOFFSETTO:-0800
TZNAME:PST
DTSTART:19701101T020000
RRULE:FREQ=YEARLY;BYMONTH=11;BYDAY=1SU
END:STANDARD
END:VTIMEZONE
BEGIN:VEVENT
UID:1464587:Event:155452
DTSTAMP:20260423T073217Z
SUMMARY:Cody ChesnuTT
DESCRIPTION:\n\n\nUniversally hailed as a thrilling new figure in musi
 c for his edgy, lo-fi debut, The Headphone Masterpiece, back in 2002, 
 Cody ChesnuTT is a soul troubadour whose frank, socially conscious rum
 inations on life continue to challenge popular notions of what modern 
 soul music can look and sound like: a raw storyteller for the people w
 earing a guitar and a toothpick-chewing smirk; a wide-eyed, intense so
 ul brother in a crazy-fly get-up singing about bedraggled love in the 
 land of Lost Angeles - he's all of that, but wiser now while still wea
 ring poetic license on his skin like a battle scar. The Atlanta native
  has always stood his own creative ground ever since he first holed hi
 mself up in his bedroom to record The Headphone Masterpiece, armed wit
 h his DIY musical arsenal: a drum machine, an array of instruments, a 
 dusty four-track cassette recorder and a giant pair of headphones to b
 lock out the world.\n\nFor more information visit https://trueskool.co
 m/events/cody-chesnutt-1
DTSTART;TZID=America/Los_Angeles:20130129T200000
DTEND;TZID=America/Los_Angeles:20130129T230000
CATEGORIES:"bay area", "san francisco", oakland
LOCATION:The Independent, San Francisco
WEBSITE:http://www.ticketfly.com/purchase/event/200445?utm_medium=bks&
 wrKey=94EF937B557A54647D4B5F24F38731F8
URL:http://www.ticketfly.com/purchase/event/200445?utm_medium=bks&wrKe
 y=94EF937B557A54647D4B5F24F38731F8
CONTACT:
ORGANIZER;CN="Editor's Pick":https://trueskool.com/profile/RentheVinyl
 Archaeologist
ATTACH;FMTTYPE="image/jpeg":http://storage.ning.com/topology/rest/1.0/
 file/get/2247889133?profile=original
ATTENDEE;ROLE=REQ-PARTICIPANT;PARTSTAT=ACCEPTED;RSVP=TRUE;CN="Editor's
  Pick":https://trueskool.com/profile/RentheVinylArchaeologist
END:VEVENT
END:VCALENDAR
