BEGIN:VCALENDAR
PRODID:NingEventWidget-v1
VERSION:2.0
METHOD:PUBLISH
BEGIN:VTIMEZONE
TZID:America/Los_Angeles
X-LIC-LOCATION:America/Los_Angeles
BEGIN:DAYLIGHT
TZOFFSETFROM:-0800
TZOFFSETTO:-0700
TZNAME:PDT
DTSTART:19700308T020000
RRULE:FREQ=YEARLY;BYMONTH=3;BYDAY=2SU
END:DAYLIGHT
BEGIN:STANDARD
TZOFFSETFROM:-0700
TZOFFSETTO:-0800
TZNAME:PST
DTSTART:19701101T020000
RRULE:FREQ=YEARLY;BYMONTH=11;BYDAY=1SU
END:STANDARD
END:VTIMEZONE
BEGIN:VEVENT
UID:1464587:Event:35400
DTSTAMP:20260420T213203Z
SUMMARY:Coast 2 Coast New Music Industry Convention
DESCRIPTION:\n\n\n\nTHE COAST 2 COAST CONVENTION WILL BE A PROFESSIONA
 L MUSIC INDUSTRY NETWORKING EVENT FOCUSING ON THE NEW MUSIC INDUSTRY. 
 THE EVENT IS PUT ON BY COAST 2 COAST MIXTAPES IN ASSOCIATION WITH ISTA
 NDARDPRODUCERS.COM WILL BE A DAYTIME PRIVATE EVENT IN MIDTOWN MANHATTA
 N, NYC AT THE IMMACULATE CLUB TOUCH. THE EVENT WILL BE HOSTED BY J HAT
 CH AND WE WILL FEATURE PRESENTATIONS ON MARKETING, PROMOTION, NEW MEDI
 A, INDUSTRY ETIQUETTE, PRODUCTION TIPS, MONETIZING PROMOTIONS AND MUCH
  MORE!\n\nPANELISTS\n\nLABEL/A&R PANEL\n\n* SENATOR SKID (DIRECTOR OF 
 A&R FOR BADBOY RECORDS)\n* DRO (SHADY RECORDS)\n* BIG THEO (DIR. OF PR
 OMOTIONS - INTERSCOPE RECORDS)\n* DAVEY D (UNIVERSAL/MOTOWN)\n* ERIC B
 EASLY (A&R ASYLUM)\n\nNEW MEDIA PANEL\n\n* KP (FOUNDER - DATPIFF.COM)\
 n* PROGRAMMING STAFF- HOT97 NY\n* MICHAEL TRAMPE (HIPHOPDX.COM)\n* APE
 X (INDUSTRY ALTERNATIVES/A&R CONSULTANT FOR THUMBPLAY.COM)\n* \"NIFTY\
 " NEIL CAESAR (VP/CFO - DIGIWAXX MEDIA)\n* COREY \"CL\" LLEWELLYN (PRE
 SIDENT/CEO - DIGIWAXX MEDIA)\n* BIG YU (NATIONAL ACCOUNT DIRECTOR- DIG
 IWAXX MEDIA)\n* LIL FATS (CEO - COAST 2 COAST MIXTAPES &MAGAZINE)\n\nP
 RODUCER PANEL\n\n* BABY PAUL (LEGENDARY PLATINUM PRODUCER- BEATMINERZ)
 \n* KEN LEWIS (6X GRAMMY, 52X PLATINUM PRODUCER, CREDITS- KANYE WEST, 
 TI, JAY Z & MORE)\n* THE LEGENDARY 'BUCKWILD' (PRODUCER FOR BIG PUN, B
 IG L, JAY Z, 50 CENT & MORE)\n* MISTA RAJA (PRODUCER/WRITER OF MAINO -
  \"HI HATER\")\n* PRESTIGE (MULTI PLATINUM PRODUCER - FORMERLY OF THE 
 HITMEN)\n* DAHOUD DARIEN (MULTI PLATINUM PRODUCER)\n* NEO DA MATRIX (P
 RODUCER OF JADAKISS \"CAN'T STOP\", CASSIDY \"AM TO PM\", RIHANNA \"SA
 Y IT\")\n\nETIQUETTE/PROFESSIONALISM PANEL\n\n* BOB CELESTIN (ENTERTAI
 NMENT ATTORNEY FOR PETEY PABLO, TOCARRA & OUTKAST)\n* RIKERS (VP OF MA
 RKETING FOR STALL AND DEAN CLOTHING)\n* DOVE (TYGEREYE ENTERTAINMENT/P
 UBLICIST FOR AMADEUS, NU JERZEY DEVIL, JAH CURE)\n* DONALD HARRISON (M
 ARKETING DIRECTOR- COAST 2 COAST MIXTAPES/DJS)\n* MARC SMILOW (MANAGER
  - MULTI PLATINUM PRODUCERS/SONGWRITERS)\n* WALTER JONES (R&B MEMBER R
 EPRESENTATIVE ASCAP)\n* CHRISTOPHER J. CABOTT, ESQ. (ENTERTAINMENT ATT
 ORNEY)\n\n& MORE TO BE ANNOUNCED!\n\nALL COAST 2 COAST DJS WILL BE IN 
 ATTENDENCE!\n\nDJS: EMAIL FILLET FOR YOUR FREE ADMISSION BY AUG. 1ST\n
 \nWWW.COAST2COASTMIXTAPEDJS.COM\n\nDJ CONFIRMED INCLUDING: DJ NO PHRIL
 LZ, DJ NU, DJ SCOPE, DJ MR FX, DJ FATHA RAMZEE, DJ SOULLESS, DJ ILL PH
 IL, DJ TKO, DJ ROME, DJ MACKY, DJ FERN, DJ PRODIGY, DJ KAZE, NASDAQ BR
 IXX, J GREEN MONEY TALKS, DJ IQ, DJ FUSION, FLOOD DA BLOC & HUNDREDS M
 ORE!!!\n\n\n\nSPECIAL INDUSTRY GUESTS:\n\nJT THA BIGGA FIGGA, SHA STIM
 ULI, TONE TRUMP, RAIN, CYMARSHALL LAW, E. NESS, REED DOLLAZ, TEKNEEK, 
 DJ J RONIN, EXPONENT ENTERTAINMENT, DONNY GOINES, DJ BEDTYME 357, DV A
 LIAS KRIST, SAV KILLZ, MYSONNE, MIKEY BLOODSHOT, NINO BLESS, ST. LAZ, 
 PAPOOSE, BIG LOU, DJ NU, J. BRICE, & MANY MORE TO BE ANNOUNCED!!\n\nGE
 T YOUR TICKETS EARLY AS PRICES INCREASE OVER TIME. $100 UNTIL JUNE 30T
 H SO GET THEM EARLY!\n\nVIP ENTRY- $500 - GET IN WITH ALL THE COAST 2 
 COAST DJS AND INDUSTRY GUESTS!! FREE ALCOHOL WILL BE PROVIDED AND YOU 
 WILL HAVE UPSTAIRS BALCONY ACCESS!!!\n\n\nOFFICIAL SPONSORS\n\nISTANDA
 RDPRODUCERS.COM\n\nCOAST2COASTMIXTAPES.COM\n\nDATPIFF.COM\n\nDIGIWAXX.
 COM\n\nINASIRKL MUSIC GROUP\n\nCOAST2COASTMIXTAPEDJS.COM\n\n2520 CLOTH
 ING\n\nVENTILATION X\n\nRS RADIO\n\nBOTTOM FEEDER MUSIC BLAST\n\nHIPHO
 PRUCKUS.COM\n\nWEAPON X PROMOTIONS\n\nFor more information visit https
 ://trueskool.com/events/coast-2-coast-new-music
DTSTART;TZID=America/Los_Angeles:20090822T130000
DTEND;TZID=America/Los_Angeles:20090822T210000
CATEGORIES:music, networking, event, industry, party, private, hip, ho
 p, rap, urban
LOCATION:Club TOUCH - Midtown/Times Square
WEBSITE:http://www.coast2coastconvention.com
URL:http://www.coast2coastconvention.com
CONTACT:503-841-5443
ORGANIZER;CN="Coast 2 Coast Mixtapes":https://trueskool.com/profile/Co
 ast2CoastMixtapes
ATTACH;FMTTYPE="image/jpeg":http://storage.ning.com/topology/rest/1.0/
 file/get/2247858902?profile=original
ATTENDEE;ROLE=REQ-PARTICIPANT;PARTSTAT=ACCEPTED;RSVP=TRUE;CN="Coast 2 
 Coast Mixtapes":https://trueskool.com/profile/Coast2CoastMixtapes
END:VEVENT
END:VCALENDAR
