BEGIN:VCALENDAR
PRODID:NingEventWidget-v1
VERSION:2.0
METHOD:PUBLISH
BEGIN:VTIMEZONE
TZID:America/Los_Angeles
X-LIC-LOCATION:America/Los_Angeles
BEGIN:DAYLIGHT
TZOFFSETFROM:-0800
TZOFFSETTO:-0700
TZNAME:PDT
DTSTART:19700308T020000
RRULE:FREQ=YEARLY;BYMONTH=3;BYDAY=2SU
END:DAYLIGHT
BEGIN:STANDARD
TZOFFSETFROM:-0700
TZOFFSETTO:-0800
TZNAME:PST
DTSTART:19701101T020000
RRULE:FREQ=YEARLY;BYMONTH=11;BYDAY=1SU
END:STANDARD
END:VTIMEZONE
BEGIN:VEVENT
UID:1464587:Event:673551
DTSTAMP:20260421T034239Z
SUMMARY:CLUSTERFEST
DESCRIPTION:Comedy Central presents\r\nCLUSTERFEST\r\nJon Stewart Amy 
 Schumer & Friends The Lonely Island Trevor Noah & many more!\r\nCivic 
 Center Plaza &  Bill Graham Civic Auditorium San Francisco, CA\r\nFrid
 ay, June 01, 2018 Show: 5:00pm\r\nSaturday, June 02, 2018 Show: 2:00pm
 \r\nSunday, June 03, 2018 Show: 2:00pm\n\nFor more information visit h
 ttps://trueskool.com/events/clusterfest
DTSTART;TZID=America/Los_Angeles:20180601T170000
DTEND;TZID=America/Los_Angeles:20180603T210000
CATEGORIES:"bay area", oakland, "san francisco", "san jose", berkeley
LOCATION:Bill Graham Civic Auditorium, SF
WEBSITE:https://www.clusterfest.com/?utm_source=ATHRPLNT-APET&amp;amp;
 utm_medium=WebsiteListing&amp;amp;utm_term=APE-WebsiteListing&amp;amp;
 utm_content=LocalPartners&amp;amp;utm_campaign=CLTF-2018
URL:https://www.clusterfest.com/?utm_source=ATHRPLNT-APET&amp;amp;utm_
 medium=WebsiteListing&amp;amp;utm_term=APE-WebsiteListing&amp;amp;utm_
 content=LocalPartners&amp;amp;utm_campaign=CLTF-2018
CONTACT:
ORGANIZER;CN="Editor's Pick":https://trueskool.com/profile/RentheVinyl
 Archaeologist
ATTACH;FMTTYPE="image/jpeg":http://storage.ning.com/topology/rest/1.0/
 file/get/2248007381?profile=original
ATTENDEE;ROLE=REQ-PARTICIPANT;PARTSTAT=ACCEPTED;RSVP=TRUE;CN="Editor's
  Pick":https://trueskool.com/profile/RentheVinylArchaeologist
END:VEVENT
END:VCALENDAR
