BEGIN:VCALENDAR
PRODID:NingEventWidget-v1
VERSION:2.0
METHOD:PUBLISH
BEGIN:VTIMEZONE
TZID:America/Los_Angeles
X-LIC-LOCATION:America/Los_Angeles
BEGIN:DAYLIGHT
TZOFFSETFROM:-0800
TZOFFSETTO:-0700
TZNAME:PDT
DTSTART:19700308T020000
RRULE:FREQ=YEARLY;BYMONTH=3;BYDAY=2SU
END:DAYLIGHT
BEGIN:STANDARD
TZOFFSETFROM:-0700
TZOFFSETTO:-0800
TZNAME:PST
DTSTART:19701101T020000
RRULE:FREQ=YEARLY;BYMONTH=11;BYDAY=1SU
END:STANDARD
END:VTIMEZONE
BEGIN:VEVENT
UID:1464587:Event:831713
DTSTAMP:20260421T232149Z
SUMMARY:Club Deco 30th Anniversary  Featuring Mr. E, Derrick D, Doc Fu
 , Rolo 1-3, Jamo, Wisdom, Pause, Corazon, Papa Joe, Jah Yzer, Polo, To
 ph One
DESCRIPTION:\r\n\r\nSUNDAY, AUG 18\r\nClub Deco 30th Anniversary\r\nFe
 aturing Mr. E, Derrick D, Doc Fu, Rolo 1-3, Jamo, Wisdom, Pause, Coraz
 on, Papa Joe, Jah Yzer, Polo, Toph OneHosted by Queen Cleo\r\n\r\nat V
 ictory Hall, 360 Ritch St., San Francisco\r\n3pm-9pmMore info here htt
 ps://www.facebook.com/events/1051470046412930\r\nWatch the live stream
  at twitch.tv/trueskool\n\nFor more information visit https://trueskoo
 l.com/events/club-deco-30th-anniversary-featuring-mr-e-derrick-d-doc-f
 u-rolo-1
DTSTART;TZID=America/Los_Angeles:20240818T150000
DTEND;TZID=America/Los_Angeles:20240818T210000
CATEGORIES:"bay area", "san francisco"
LOCATION:Victory Hall, San Francisco
WEBSITE:
URL:
CONTACT:
ORGANIZER;CN="Editor's Pick":https://trueskool.com/profile/RentheVinyl
 Archaeologist
ATTACH;FMTTYPE="image/jpeg":https://storage.ning.com/topology/rest/1.0
 /file/get/12811938459?profile=original
ATTENDEE;ROLE=REQ-PARTICIPANT;PARTSTAT=ACCEPTED;RSVP=TRUE;CN="Editor's
  Pick":https://trueskool.com/profile/RentheVinylArchaeologist
END:VEVENT
END:VCALENDAR
