BEGIN:VCALENDAR
PRODID:NingEventWidget-v1
VERSION:2.0
METHOD:PUBLISH
BEGIN:VTIMEZONE
TZID:America/Los_Angeles
X-LIC-LOCATION:America/Los_Angeles
BEGIN:DAYLIGHT
TZOFFSETFROM:-0800
TZOFFSETTO:-0700
TZNAME:PDT
DTSTART:19700308T020000
RRULE:FREQ=YEARLY;BYMONTH=3;BYDAY=2SU
END:DAYLIGHT
BEGIN:STANDARD
TZOFFSETFROM:-0700
TZOFFSETTO:-0800
TZNAME:PST
DTSTART:19701101T020000
RRULE:FREQ=YEARLY;BYMONTH=11;BYDAY=1SU
END:STANDARD
END:VTIMEZONE
BEGIN:VEVENT
UID:1464587:Event:141970
DTSTAMP:20260422T003809Z
SUMMARY:Classy Corporate Cocktail  Mixer
DESCRIPTION: Shop until you cant stop at the Classy Corporate Cocktai
 l Mixer. Come out and socialize over cocktails, purchase your tickets 
 this month and enter a raffle to win extraordinary gifts. Join us for 
 a variety of vendors and pick up your favorite trinkets and specialty 
 items.\n\nFor more information visit https://trueskool.com/events/clas
 sy-corporate-cocktail-mixer
DTSTART;TZID=America/Los_Angeles:20130120T160000
DTEND;TZID=America/Los_Angeles:20130120T190000
CATEGORIES:bay, area
LOCATION:CityLine Event Center
WEBSITE:http://www.brownpapertickets.com/event/275434
URL:http://www.brownpapertickets.com/event/275434
CONTACT:
ORGANIZER;CN="De Shawn Butler":https://trueskool.com/profile/DeShawnBu
 tler
ATTACH;FMTTYPE="image/jpeg":http://storage.ning.com/topology/rest/1.0/
 file/get/2247930677?profile=original
ATTENDEE;ROLE=REQ-PARTICIPANT;PARTSTAT=ACCEPTED;RSVP=TRUE;CN="De Shawn
  Butler":https://trueskool.com/profile/DeShawnButler
END:VEVENT
END:VCALENDAR
