BEGIN:VCALENDAR
PRODID:NingEventWidget-v1
VERSION:2.0
METHOD:PUBLISH
BEGIN:VTIMEZONE
TZID:America/Los_Angeles
X-LIC-LOCATION:America/Los_Angeles
BEGIN:DAYLIGHT
TZOFFSETFROM:-0800
TZOFFSETTO:-0700
TZNAME:PDT
DTSTART:19700308T020000
RRULE:FREQ=YEARLY;BYMONTH=3;BYDAY=2SU
END:DAYLIGHT
BEGIN:STANDARD
TZOFFSETFROM:-0700
TZOFFSETTO:-0800
TZNAME:PST
DTSTART:19701101T020000
RRULE:FREQ=YEARLY;BYMONTH=11;BYDAY=1SU
END:STANDARD
END:VTIMEZONE
BEGIN:VEVENT
UID:1464587:Event:42394
DTSTAMP:20260420T131025Z
SUMMARY:CLASSIC - SOUL SKOOL SESSIONS
DESCRIPTION:CITY CAT SOUND presents the monthly mash up to satisfy tha
 t soul taste. Come celebrate the East Bay at one of its finest venues.
  Beautiful People, Music and Vibe every time. The only thing missing i
 s you…\n\nSOUL :: RNB :: FUNK :: REGGAE\n\n\n*** GET YOUR COPY OF TH
 E SOUL MIXTAPE VOL 8 ***\n\nResident DJ HENROC\n\n+\n\nSpecial Guests\
 n\n\nCLASSIC\n@ The Air Lounge\n592 9th St – Oak\n\n10pm Doors :: 21
 + :: Dress Code Enforced\n\nCelebrating a B-Day or want to reserve a B
 ooth?\nInfo: 510.444.2377\n\nFor more information visit https://truesk
 ool.com/events/classic-soul-skool-sessions
DTSTART;TZID=America/Los_Angeles:20101120T220000
DTEND;TZID=America/Los_Angeles:20101121T020000
CATEGORIES:soul, "r&b", funk, reggae
LOCATION:Air Lounge, Oakland, CA
WEBSITE:http://www.airoakland.com
URL:http://www.airoakland.com
CONTACT:
ORGANIZER;CN="DJ HENROC":https://trueskool.com/profile/DJHENROC
ATTACH;FMTTYPE="image/jpeg":http://storage.ning.com/topology/rest/1.0/
 file/get/2247857217?profile=original
ATTENDEE;ROLE=REQ-PARTICIPANT;PARTSTAT=ACCEPTED;RSVP=TRUE;CN="DJ HENRO
 C":https://trueskool.com/profile/DJHENROC
END:VEVENT
END:VCALENDAR
