BEGIN:VCALENDAR
PRODID:NingEventWidget-v1
VERSION:2.0
METHOD:PUBLISH
BEGIN:VTIMEZONE
TZID:America/Los_Angeles
X-LIC-LOCATION:America/Los_Angeles
BEGIN:DAYLIGHT
TZOFFSETFROM:-0800
TZOFFSETTO:-0700
TZNAME:PDT
DTSTART:19700308T020000
RRULE:FREQ=YEARLY;BYMONTH=3;BYDAY=2SU
END:DAYLIGHT
BEGIN:STANDARD
TZOFFSETFROM:-0700
TZOFFSETTO:-0800
TZNAME:PST
DTSTART:19701101T020000
RRULE:FREQ=YEARLY;BYMONTH=11;BYDAY=1SU
END:STANDARD
END:VTIMEZONE
BEGIN:VEVENT
UID:1464587:Event:664058
DTSTAMP:20260421T032933Z
SUMMARY:Classic Hip-Hop Night
DESCRIPTION:\nFRIDAY, JUNE 7\nMY MELODY: CLASSIC HIP HOP NIGHTMY MELOD
 Y classic hip-hop night with DJ Dave Paul in the main room at Public W
 orks. All your favorite old school & golden era rap songs from the twe
 nty year period of 1979-1999.   PUBLIC WORKS - 161 Erie Street (off M
 ission between Duboce and 14th) San Francisco, CA 94103 / 9pm-2am / 21
 +\nhttps://www.facebook.com/events/1340987412625632/  ABOUT YOUR DJ: F
 or over 20 years, DJ Dave Paul has been an integral part of hip-hop an
 d DJ culture. In the early 90s, he launched the now legendary publicat
 ion, The Bomb Hip-Hop Magazine, and in 1995, Paul transformed the maga
 zine into a record label. The company was named \"one of the fifteen i
 ndependent labels that matter,\" according to Rolling Stone, and the l
 abel's Return of the DJ series was ranked by Spin Magazine as #25 in t
 heir \"The 90 Greatest Albums of the 90's\" (Sept. 1999 issue), receiv
 ing a higher rating than Gold & Platinum albums by Lauryn Hill, Pearl 
 Jam, Metallica, Green Day, and Fatboy Slim. Dave Paul has appeared on 
 the front cover of Billboard magazine and is featured in the motion pi
 cture Scratch. Mr. Paul has DJ'ed throughout the US, toured Europe, re
 leased over 100 projects on his record label, and currently produces t
 heme parties.\n\nFor more information visit https://trueskool.com/even
 ts/classic-hip-hop-night
DTSTART;TZID=America/Los_Angeles:20170707T210000
DTEND;TZID=America/Los_Angeles:20170708T020000
CATEGORIES:san, francisco
LOCATION:Public Works, San Francisco, CA
WEBSITE:https://www.facebook.com/events/1340987412625632/
URL:https://www.facebook.com/events/1340987412625632/
CONTACT:
ORGANIZER;CN="Dave Paul":https://trueskool.com/profile/DavePaul
ATTACH;FMTTYPE="image/jpeg":http://storage.ning.com/topology/rest/1.0/
 file/get/2247998480?profile=original
ATTENDEE;ROLE=REQ-PARTICIPANT;PARTSTAT=ACCEPTED;RSVP=TRUE;CN="Dave Pau
 l":https://trueskool.com/profile/DavePaul
END:VEVENT
END:VCALENDAR
