BEGIN:VCALENDAR
PRODID:NingEventWidget-v1
VERSION:2.0
METHOD:PUBLISH
BEGIN:VTIMEZONE
TZID:America/Los_Angeles
X-LIC-LOCATION:America/Los_Angeles
BEGIN:DAYLIGHT
TZOFFSETFROM:-0800
TZOFFSETTO:-0700
TZNAME:PDT
DTSTART:19700308T020000
RRULE:FREQ=YEARLY;BYMONTH=3;BYDAY=2SU
END:DAYLIGHT
BEGIN:STANDARD
TZOFFSETFROM:-0700
TZOFFSETTO:-0800
TZNAME:PST
DTSTART:19701101T020000
RRULE:FREQ=YEARLY;BYMONTH=11;BYDAY=1SU
END:STANDARD
END:VTIMEZONE
BEGIN:VEVENT
UID:1464587:Event:666338
DTSTAMP:20260421T053452Z
SUMMARY:Classic Hip-Hop Night
DESCRIPTION:\r\nSATURDAY, SEPT 16 \r\nClassic Hip-Hop Night with DJ D
 ave Paul at Public Works. All your favorite old school & golden era ra
 p songs from the twenty year period of 1979-1999.  @ Public Works (in
  the main room) 161 Erie (off Mission between Duboce and 14th) San Fra
 ncisco, CA 94103 / 9pm-2am / 21+>> BUY TICKETS ALL TICKET SALES ARE FI
 NAL. No refunds or exchanges.  For over 20 years, DJ Dave Paul has bee
 n an integral part of hip-hop and DJ culture. In the early 90s, he lau
 nched the now legendary publication, The Bomb Hip-Hop Magazine, and in
  1995, Paul transformed the magazine into a record label. The company 
 was named \"one of the fifteen independent labels that matter,\" accor
 ding to Rolling Stone, and the label's Return of the DJ series was ra
 nked by Spin Magazine as #25 in their \"The 90 Greatest Albums of the 
 90's\" (Sept. 1999 issue), receiving a higher rating than Gold & Plati
 num albums by Lauryn Hill, Pearl Jam, Metallica, Green Day, and Fatboy
  Slim. Dave Paul has appeared on the front cover of Billboard magazine
  and is featured in the motion picture Scratch. Mr. Paul has DJ'ed thr
 oughout the US, toured Europe, released over 100 projects on his recor
 d label, and currently produces theme parties, including The Prince an
 d Michael Experience and That BIG 80s Party.\n\nFor more information v
 isit https://trueskool.com/events/classic-hip-hop-night-1
DTSTART;TZID=America/Los_Angeles:20170916T210000
DTEND;TZID=America/Los_Angeles:20170917T020000
CATEGORIES:san, francisco
LOCATION:Public Works, San Francisco, CA
WEBSITE:http://bit.ly/tix0916
URL:http://bit.ly/tix0916
CONTACT:
ORGANIZER;CN="Dave Paul":https://trueskool.com/profile/DavePaul
ATTACH;FMTTYPE="image/jpeg":http://storage.ning.com/topology/rest/1.0/
 file/get/2248000734?profile=original
ATTENDEE;ROLE=REQ-PARTICIPANT;PARTSTAT=ACCEPTED;RSVP=TRUE;CN="Dave Pau
 l":https://trueskool.com/profile/DavePaul
END:VEVENT
END:VCALENDAR
