BEGIN:VCALENDAR
PRODID:NingEventWidget-v1
VERSION:2.0
METHOD:PUBLISH
BEGIN:VTIMEZONE
TZID:America/Los_Angeles
X-LIC-LOCATION:America/Los_Angeles
BEGIN:DAYLIGHT
TZOFFSETFROM:-0800
TZOFFSETTO:-0700
TZNAME:PDT
DTSTART:19700308T020000
RRULE:FREQ=YEARLY;BYMONTH=3;BYDAY=2SU
END:DAYLIGHT
BEGIN:STANDARD
TZOFFSETFROM:-0700
TZOFFSETTO:-0800
TZNAME:PST
DTSTART:19701101T020000
RRULE:FREQ=YEARLY;BYMONTH=11;BYDAY=1SU
END:STANDARD
END:VTIMEZONE
BEGIN:VEVENT
UID:1464587:Event:235202
DTSTAMP:20260421T005831Z
SUMMARY:Clash Of The Titans Tour
DESCRIPTION:\n\n$15 Pre Sale Link:Â http://www.brownpapertickets.com/e
 vent/423489$20 at The DoorWhile many can associate The Alkaholiks(http
 s://www.youtube.com/watch?v=o_ikw8Z7lpIÂ ), CaliAgents(https://www.you
 tube.com/watch?v=E5aOOZMjCoAÂ ), and Casual(https://www.youtube.com/wa
 tch?v=TV74MHNrUpIÂ ) to what many have called the 2nd Golden Era of Hi
 p Hop(1993-2000), Real Hip Hop Heads know that everyone involved has d
 ropped stunning new material, videos and collaborations in 2013.20 yea
 rs have passed since the debut of 21 & Over by The Alkaholiks and E-Sw
 ift, J-Ro, and Tash are back together in Full Force, recording new mat
 erial and hitting the road to celebrate not only a stellar recording c
 areer but also a resurgence of that fun loving, crowd pleasing, live H
 ip Hop Show.The \"Liks\" are poised to tour the United States with fel
 lowcontemporaries Cali Agents and Casual of Hieroglyphics under the na
 me The Clash Of The Titans. By continuing to keep their ear to the str
 eet, The Clash Of The Titans have recruited newcomers Cisum Tomorrow(Â
  https://www.youtube.com/watchv=Pv2i2JIfMBIÂ ) ft. Wes Nyle(Â https://
 www.youtube.com/watch?v=f9qQNkvdlCwÂ ) to bridge the gap between what 
 was established and what is next to come in the ever changing climate 
 of Hip Hop.ALSO PERFORMING:Jern EyeGLOS.B. BABY COUGNUT & DJ TWELVZON 
 THE 1's and 2's:DJ StylesÂ \n\n\n\n\nFor more information visit https:
 //trueskool.com/events/clash-of-the-titans-tour
DTSTART;TZID=America/Los_Angeles:20130821T210000
DTEND;TZID=America/Los_Angeles:20130822T013000
CATEGORIES:oakland, bay, area
LOCATION:New Karribean City
WEBSITE:http://www.brownpapertickets.com/event/423489
URL:http://www.brownpapertickets.com/event/423489
CONTACT:510-684-2883
ORGANIZER;CN="True Justice":https://trueskool.com/profile/TrueJustice
ATTACH;FMTTYPE="image/jpeg":http://storage.ning.com/topology/rest/1.0/
 file/get/2247945580?profile=original
ATTENDEE;ROLE=REQ-PARTICIPANT;PARTSTAT=ACCEPTED;RSVP=TRUE;CN="True Jus
 tice":https://trueskool.com/profile/TrueJustice
END:VEVENT
END:VCALENDAR
