BEGIN:VCALENDAR
PRODID:NingEventWidget-v1
VERSION:2.0
METHOD:PUBLISH
BEGIN:VTIMEZONE
TZID:America/Los_Angeles
X-LIC-LOCATION:America/Los_Angeles
BEGIN:DAYLIGHT
TZOFFSETFROM:-0800
TZOFFSETTO:-0700
TZNAME:PDT
DTSTART:19700308T020000
RRULE:FREQ=YEARLY;BYMONTH=3;BYDAY=2SU
END:DAYLIGHT
BEGIN:STANDARD
TZOFFSETFROM:-0700
TZOFFSETTO:-0800
TZNAME:PST
DTSTART:19701101T020000
RRULE:FREQ=YEARLY;BYMONTH=11;BYDAY=1SU
END:STANDARD
END:VTIMEZONE
BEGIN:VEVENT
UID:1464587:Event:235144
DTSTAMP:20260421T040115Z
SUMMARY:Clash Of The Titans Tour ft. The Alkaholiks, CaliAgents, and C
 asual
DESCRIPTION:While many can associate The Alkaholiks, CaliAgents, and C
 asual to what many have called the 2nd Golden Era of Hip Hop (1993-200
 0), Real Hip Hop Heads know that everyone involved has dropped stunnin
 g new material, videos and collaborations in 2013.  20 years have pass
 ed since the debut of 21 & Over by The Alkaholiks and E-Swift, J-Ro, a
 nd Tash are back together in Full Force, recording new material and hi
 tting the road to celebrate not only a stellar recording career but al
 so a resurgence of that fun loving, crowd pleasing, live Hip Hop Show.
   The \"Liks\" are poised to tour the United States with fellow contem
 poraries Cali Agents and Casual of Hieroglyphics under the name The Cl
 ash Of The Titans. By continuing to keep their ear to the street, The 
 Clash Of The Titans have recruited newcomers Cisum Tomorrow  ft. Wes 
 Nyle to bridge the gap between what was established and what is next t
 o come in the ever changing climate of Hip Hop.  ALSO PERFORMING: Jern
  Eye GLO S.B. BABY COUGNUT & DJ TWELVZ ON THE 1's and 2's: DJ Styles\n
 \nFor more information visit https://trueskool.com/events/clash-of-the
 -titans-tour-1
DTSTART;TZID=America/Los_Angeles:20130821T210000
DTEND;TZID=America/Los_Angeles:20130822T010000
CATEGORIES:oakland, bay, area, east
LOCATION:New Karribean City
WEBSITE:http://www.brownpapertickets.com/event/423489
URL:http://www.brownpapertickets.com/event/423489
CONTACT:510-684-2883
ORGANIZER;CN="True Justice":https://trueskool.com/profile/TrueJustice
ATTACH;FMTTYPE="image/jpeg":http://storage.ning.com/topology/rest/1.0/
 file/get/2247945580?profile=original
ATTENDEE;ROLE=REQ-PARTICIPANT;PARTSTAT=ACCEPTED;RSVP=TRUE;CN="True Jus
 tice":https://trueskool.com/profile/TrueJustice
END:VEVENT
END:VCALENDAR
