BEGIN:VCALENDAR
PRODID:NingEventWidget-v1
VERSION:2.0
METHOD:PUBLISH
BEGIN:VTIMEZONE
TZID:America/Los_Angeles
X-LIC-LOCATION:America/Los_Angeles
BEGIN:DAYLIGHT
TZOFFSETFROM:-0800
TZOFFSETTO:-0700
TZNAME:PDT
DTSTART:19700308T020000
RRULE:FREQ=YEARLY;BYMONTH=3;BYDAY=2SU
END:DAYLIGHT
BEGIN:STANDARD
TZOFFSETFROM:-0700
TZOFFSETTO:-0800
TZNAME:PST
DTSTART:19701101T020000
RRULE:FREQ=YEARLY;BYMONTH=11;BYDAY=1SU
END:STANDARD
END:VTIMEZONE
BEGIN:VEVENT
UID:1464587:Event:444054
DTSTAMP:20260421T003223Z
SUMMARY:Clas/sick Hip-Hop: 1993 Edition
DESCRIPTION:\nClas/sick Hip-Hop: 1993 Edition World Premiere YBCA Foru
 m\nNov 7 & 8, 8pm See more at www.ybca.org/93-til\nPart of the Yerba 
 Buena Center for the Arts’ restored commitment to local artists, “
 Clas/sick Hip-Hop: 1993 Edition,” ups the intersectionality as well 
 as the ante of the juxapositional series, which debuted in 2012. Curat
 ed by Marc Bamuthi Joseph, YBCA’s Chief of Programs and Pedagogy, Cl
 as/sick revisits the “Golden Age” year of 1993, a seminal period i
 n the development and evolution of the hip-hop genre, and a year which
  saw groundbreaking releases from artists such as A Tribe Called Quest
 , De La Soul, Digable Planets, Wu-Tang Clan, Snoop Doggy Dogg, Souls o
 f Mischief, Freestyle Fellowship, Black Moon, Guru’s Jazzmatazz, KRS
 -One, Del the Funky Homosapien, 2Pac, The Coup, and many others. 1993 
 is also notable in that it was the year YBCA opened its doors and bega
 n its mission as a Left Coast-centered outpost for contemporary arts.\
 n“Clas/sick” is a multi-disciplinary affair, which features live b
 and performances conducted by two musical directors – JooWan Kim and
  Kev Choice, directing Ensemble Mik Nawooj and the Kev Choice Ensemble
  respectively –; 25 guest emcees; a cappella chorus Young Gifted & B
 lack; dancers from the 50 Cent Tabernacle; video design by David Szlas
 a; a dance party of Golden Age hip-hop gems with DJs Kevvy Kev, Sake O
 ne, Dion Decibels, Davey D and Fuze; 93-second video testimonials by l
 ocal culturati; and ancillary film series and dance classes.\n--------
 ---------------\nFor more info, call 415.978.2787 or visit www.ybca.o
 rg\nEnjoy same-day gallery admission with all YBCA presented performan
 ces & films! See all current exhibitions at www.ybca.org/exhibitions\
 nJoin YBCA:You and receive FREE admission to every YBCA performance, f
 ilm, exhibition, and special event! www.ybca.org/you\n\nFor more info
 rmation visit https://trueskool.com/events/clas-sick-hip-hop-1993-edit
 ion
DTSTART;TZID=America/Los_Angeles:20141107T200000
DTEND;TZID=America/Los_Angeles:20141108T230000
CATEGORIES:"san francisco", "bay area"
LOCATION:Yerba Buena Center for the Arts
WEBSITE:http://www.ybca.org/93-til
URL:http://www.ybca.org/93-til
CONTACT:415.978.2787
ORGANIZER:Yerba Buena Center for the Arts
ATTACH;FMTTYPE="image/jpeg":http://storage.ning.com/topology/rest/1.0/
 file/get/2247970462?profile=original
ATTENDEE;ROLE=REQ-PARTICIPANT;PARTSTAT=ACCEPTED;RSVP=TRUE;CN="Zsa Zsa,
  Inc.":https://trueskool.com/profile/ZsaZsaInc386
END:VEVENT
END:VCALENDAR
