BEGIN:VCALENDAR
PRODID:NingEventWidget-v1
VERSION:2.0
METHOD:PUBLISH
BEGIN:VTIMEZONE
TZID:America/Los_Angeles
X-LIC-LOCATION:America/Los_Angeles
BEGIN:DAYLIGHT
TZOFFSETFROM:-0800
TZOFFSETTO:-0700
TZNAME:PDT
DTSTART:19700308T020000
RRULE:FREQ=YEARLY;BYMONTH=3;BYDAY=2SU
END:DAYLIGHT
BEGIN:STANDARD
TZOFFSETFROM:-0700
TZOFFSETTO:-0800
TZNAME:PST
DTSTART:19701101T020000
RRULE:FREQ=YEARLY;BYMONTH=11;BYDAY=1SU
END:STANDARD
END:VTIMEZONE
BEGIN:VEVENT
UID:1464587:Event:459901
DTSTAMP:20260421T003521Z
SUMMARY:Clas/sick Hip-Hop: 1993 Edition (WIN TICKETS)
DESCRIPTION:\n\nClas/sick Hip-Hop: 1993 Edition World Premiere YBCA Fo
 rum\nNov 7 & 8, 8pm See more at www.ybca.org/93-til\nPart of the Yerb
 a Buena Center for the Arts’ restored commitment to local artists, 
 Clas/sick Hip-Hop: 1993 Edition,” ups the intersectionality as wel
 l as the ante of the juxapositional series, which debuted in 2012. Cur
 ated by Marc Bamuthi Joseph, YBCA’s Chief of Programs and Pedagogy, 
 Clas/sick revisits the “Golden Age” year of 1993, a seminal period
  in the development and evolution of the hip-hop genre, and a year whi
 ch saw groundbreaking releases from artists such as A Tribe Called Que
 st, De La Soul, Digable Planets, Wu-Tang Clan, Snoop Doggy Dogg, Souls
  of Mischief, Freestyle Fellowship, Black Moon, Guru’s Jazzmatazz, K
 RS-One, Del the Funky Homosapien, 2Pac, The Coup, and many others. 199
 3 is also notable in that it was the year YBCA opened its doors and be
 gan its mission as a Left Coast-centered outpost for contemporary arts
 .\n“Clas/sick” is a multi-disciplinary affair, which features live
  band performances conducted by two musical directors – JooWan Kim a
 nd Kev Choice, directing Ensemble Mik Nawooj and the Kev Choice Ensemb
 le respectively –; 25 guest emcees; a cappella chorus Young Gifted &
  Black; dancers from the 50 Cent Tabernacle; video design by David Szl
 asa; a dance party of Golden Age hip-hop gems with DJs Kevvy Kev, Sake
  One, Dion Decibels, Davey D and Fuze; 93-second video testimonials by
  local culturati; and ancillary film series and dance classes.\n------
 -----------------\nFor more info, call 415.978.2787 or visit www.ybca
 .org\nEnjoy same-day gallery admission with all YBCA presented perform
 ances & films! See all current exhibitions at www.ybca.org/exhibition
 s\nJoin YBCA:You and receive FREE admission to every YBCA performance,
  film, exhibition, and special event! www.ybca.org/you\n\nFor more in
 formation visit https://trueskool.com/events/clas-sick-hip-hop-1993-ed
 ition-win-tickets
DTSTART;TZID=America/Los_Angeles:20141107T200000
DTEND;TZID=America/Los_Angeles:20141108T230000
CATEGORIES:"san francisco", "bay area"
LOCATION:Yerba Buena Center for the Arts
WEBSITE:http://www.ybca.org/93-til
URL:http://www.ybca.org/93-til
CONTACT:415.978.2787
ORGANIZER:Yerba Buena Center for the Arts
ATTACH;FMTTYPE="image/jpeg":http://storage.ning.com/topology/rest/1.0/
 file/get/2247970462?profile=original
ATTENDEE;ROLE=REQ-PARTICIPANT;PARTSTAT=ACCEPTED;RSVP=TRUE;CN="somhatha
 i Sirichatrat":https://trueskool.com/profile/somhathaiSirichatrat
ATTENDEE;ROLE=REQ-PARTICIPANT;PARTSTAT=ACCEPTED;RSVP=TRUE;CN=Jackie:ht
 tps://trueskool.com/profile/Jackie563
ATTENDEE;ROLE=REQ-PARTICIPANT;PARTSTAT=ACCEPTED;RSVP=TRUE;CN="Ed Varga
 s":https://trueskool.com/profile/EdVargas
ATTENDEE;ROLE=REQ-PARTICIPANT;PARTSTAT=ACCEPTED;RSVP=TRUE;CN="Dan Wolf
 ":https://trueskool.com/profile/DanWolf73
ATTENDEE;ROLE=REQ-PARTICIPANT;PARTSTAT=ACCEPTED;RSVP=TRUE;CN=o:https:/
 /trueskool.com/profile/dapo
ATTENDEE;ROLE=REQ-PARTICIPANT;PARTSTAT=ACCEPTED;RSVP=TRUE;CN=J:https:/
 /trueskool.com/profile/J321
ATTENDEE;ROLE=REQ-PARTICIPANT;PARTSTAT=ACCEPTED;RSVP=TRUE;CN="Donte Ha
 rrison":https://trueskool.com/profile/DonteHarrison
ATTENDEE;ROLE=REQ-PARTICIPANT;PARTSTAT=ACCEPTED;RSVP=TRUE;CN=Marcia:ht
 tps://trueskool.com/profile/MarciaG
ATTENDEE;ROLE=REQ-PARTICIPANT;PARTSTAT=ACCEPTED;RSVP=TRUE;CN="Editor's
  Pick":https://trueskool.com/profile/RentheVinylArchaeologist
ATTENDEE;ROLE=REQ-PARTICIPANT;PARTSTAT=ACCEPTED;RSVP=TRUE;CN="Zsa Zsa,
  Inc.":https://trueskool.com/profile/ZsaZsaInc386
END:VEVENT
END:VCALENDAR
