BEGIN:VCALENDAR
PRODID:NingEventWidget-v1
VERSION:2.0
METHOD:PUBLISH
BEGIN:VTIMEZONE
TZID:America/Los_Angeles
X-LIC-LOCATION:America/Los_Angeles
BEGIN:DAYLIGHT
TZOFFSETFROM:-0800
TZOFFSETTO:-0700
TZNAME:PDT
DTSTART:19700308T020000
RRULE:FREQ=YEARLY;BYMONTH=3;BYDAY=2SU
END:DAYLIGHT
BEGIN:STANDARD
TZOFFSETFROM:-0700
TZOFFSETTO:-0800
TZNAME:PST
DTSTART:19701101T020000
RRULE:FREQ=YEARLY;BYMONTH=11;BYDAY=1SU
END:STANDARD
END:VTIMEZONE
BEGIN:VEVENT
UID:1464587:Event:308920
DTSTAMP:20260421T023642Z
SUMMARY:CITY'S BREATHIN'
DESCRIPTION:CITY'S BREATHIN' Saturday - 2.8.14 | 10pm  @ OTIS Lounge .
  25 Maiden Lane . SF  musical journey by: DJ CHAMPAGNE (Cantina SF) & 
 DAVE TACTICS (djtactics1200.com) Hip Hop . R&B . Reggae . Good Music  
 for table/bottle service/info : contact@OtisSF.com  Presented by: CW L
 ifeStyle | http://www.cwlifestyle.com/\n\n\n\nFor more information vis
 it https://trueskool.com/events/city-s-breathin-3
DTSTART;TZID=America/Los_Angeles:20140208T220000
DTEND;TZID=America/Los_Angeles:20140209T020000
CATEGORIES:"san francisco", "bay area", "union square", downtown, "mai
 den lane", "hip hop", "r&b", "city's breathin'"
LOCATION:Otis Lounge , San Francisco, CA
WEBSITE:
URL:
CONTACT:
ORGANIZER;CN="DJ TACTICS":https://trueskool.com/profile/DJTACTICS
ATTACH;FMTTYPE="image/jpeg":http://storage.ning.com/topology/rest/1.0/
 file/get/2247957110?profile=original
ATTENDEE;ROLE=REQ-PARTICIPANT;PARTSTAT=ACCEPTED;RSVP=TRUE;CN="DJ TACTI
 CS":https://trueskool.com/profile/DJTACTICS
END:VEVENT
END:VCALENDAR
