BEGIN:VCALENDAR
PRODID:NingEventWidget-v1
VERSION:2.0
METHOD:PUBLISH
BEGIN:VTIMEZONE
TZID:America/Los_Angeles
X-LIC-LOCATION:America/Los_Angeles
BEGIN:DAYLIGHT
TZOFFSETFROM:-0800
TZOFFSETTO:-0700
TZNAME:PDT
DTSTART:19700308T020000
RRULE:FREQ=YEARLY;BYMONTH=3;BYDAY=2SU
END:DAYLIGHT
BEGIN:STANDARD
TZOFFSETFROM:-0700
TZOFFSETTO:-0800
TZNAME:PST
DTSTART:19701101T020000
RRULE:FREQ=YEARLY;BYMONTH=11;BYDAY=1SU
END:STANDARD
END:VTIMEZONE
BEGIN:VEVENT
UID:1464587:Event:52317
DTSTAMP:20260421T094623Z
SUMMARY:(( CITY CAT RADIO ))
DESCRIPTION:THURSDAYS 11AM-12N\n\n\nCITY CAT RADIO gives you the best 
 Soul, Underground Hip Hop and Reggae Dancehall with your host DJ HENRO
 C. Get up on the brand new and classic material, download episodes and
  update your play lists.\n\nCHECK IT OUT…\n\nhttp://www.alldayplay.f
 m/shows/city-cat-radio\n\n\nDon’t forget if you can’t listen in, y
 ou can always download the episode any time at www.djhenroc.com\n\nTHA
 NKS!! ;)\n\nFor more information visit https://trueskool.com/events/ci
 ty-cat-radio
DTSTART;TZID=America/Los_Angeles:20100401T110000
DTEND;TZID=America/Los_Angeles:20100401T120000
CATEGORIES:internet, radio, soul, reggae, dancehall, roots, hip, hop, 
 funk, old, school
LOCATION:alldayplay.fm
WEBSITE:http://www.alldayplay.fm/shows/city-cat-radio
URL:http://www.alldayplay.fm/shows/city-cat-radio
CONTACT:
ORGANIZER;CN="DJ HENROC":https://trueskool.com/profile/DJHENROC
ATTACH;FMTTYPE="image/jpeg":http://storage.ning.com/topology/rest/1.0/
 file/get/2247875885?profile=original
ATTENDEE;ROLE=REQ-PARTICIPANT;PARTSTAT=ACCEPTED;RSVP=TRUE;CN="DJ HENRO
 C":https://trueskool.com/profile/DJHENROC
END:VEVENT
END:VCALENDAR
