BEGIN:VCALENDAR
PRODID:NingEventWidget-v1
VERSION:2.0
METHOD:PUBLISH
BEGIN:VTIMEZONE
TZID:America/Los_Angeles
X-LIC-LOCATION:America/Los_Angeles
BEGIN:DAYLIGHT
TZOFFSETFROM:-0800
TZOFFSETTO:-0700
TZNAME:PDT
DTSTART:19700308T020000
RRULE:FREQ=YEARLY;BYMONTH=3;BYDAY=2SU
END:DAYLIGHT
BEGIN:STANDARD
TZOFFSETFROM:-0700
TZOFFSETTO:-0800
TZNAME:PST
DTSTART:19701101T020000
RRULE:FREQ=YEARLY;BYMONTH=11;BYDAY=1SU
END:STANDARD
END:VTIMEZONE
BEGIN:VEVENT
UID:1464587:Event:662079
DTSTAMP:20260422T093502Z
SUMMARY:Cinco de Drinko @ John Colins
DESCRIPTION:This Cinco de Mayo celebrate #CincoDeDrinko.Friday May 5th
  join us to party from 4PM til Late inside San Francisco’s favorite 
 SoMa watering hole.\nCan of Modelo + shot of EspolonMargaritas !Free c
 hips and salsa!Plus Music with DJ #AzeBoogie from 10pm-2am!For large g
 roups or something special email:party@johncolins\n\nFor more informat
 ion visit https://trueskool.com/events/cinco-de-drinko-john-colins
DTSTART;TZID=America/Los_Angeles:20170505T160000
DTEND;TZID=America/Los_Angeles:20170506T020000
CATEGORIES:san, francisco, soma, financial, district
LOCATION:San Francisco, CA
WEBSITE:https://www.eventbrite.com/e/cinco-de-drinko-at-john-colins-ti
 ckets-34216331970
URL:https://www.eventbrite.com/e/cinco-de-drinko-at-john-colins-ticket
 s-34216331970
CONTACT:
ORGANIZER;CN=JohnColins:https://trueskool.com/profile/JohnColins27
ATTACH;FMTTYPE="image/jpeg":http://storage.ning.com/topology/rest/1.0/
 file/get/2248001716?profile=original
ATTENDEE;ROLE=REQ-PARTICIPANT;PARTSTAT=ACCEPTED;RSVP=TRUE;CN=JohnColin
 s:https://trueskool.com/profile/JohnColins27
END:VEVENT
END:VCALENDAR
