BEGIN:VCALENDAR
PRODID:NingEventWidget-v1
VERSION:2.0
METHOD:PUBLISH
BEGIN:VTIMEZONE
TZID:America/Los_Angeles
X-LIC-LOCATION:America/Los_Angeles
BEGIN:DAYLIGHT
TZOFFSETFROM:-0800
TZOFFSETTO:-0700
TZNAME:PDT
DTSTART:19700308T020000
RRULE:FREQ=YEARLY;BYMONTH=3;BYDAY=2SU
END:DAYLIGHT
BEGIN:STANDARD
TZOFFSETFROM:-0700
TZOFFSETTO:-0800
TZNAME:PST
DTSTART:19701101T020000
RRULE:FREQ=YEARLY;BYMONTH=11;BYDAY=1SU
END:STANDARD
END:VTIMEZONE
BEGIN:VEVENT
UID:1464587:Event:363906
DTSTAMP:20260420T163909Z
SUMMARY:Chuy Gomez Presents The Original Grown Folks Party
DESCRIPTION:\nBay Area ... It's Back!!!Chuy Gomez Presents :'The Origi
 nal Grown Folks Party'Join me for my Welcome Back to the Radio Airwave
 s on Hot 105.7FM & 100.7 FM.We Are Doing It Grown Folks Style!!!Party 
 Beats and Vibe Provided by Original Djs / Hot All Star Djs LL Supreme
  & Pos Red Listen to Hot 105.7 FM & 100.7 FMSaturday May 31st, 20149p
 m Doors 21 & Over Dress Code In Effect------------------------------
 -----------------------------------Shadow Ultra Lounge 341 13th st D
 owntown Oakland Ca\n\nFor more information visit https://trueskool.com
 /events/chuy-gomez-presents-the-original-grown-folks-party
DTSTART;TZID=America/Los_Angeles:20140531T210000
DTEND;TZID=America/Los_Angeles:20140601T020000
CATEGORIES:party, chuy, gomez, grown, folks
LOCATION:Shadow Lounge
WEBSITE:
URL:
CONTACT:
ORGANIZER;CN="Supabad Entertainment":https://trueskool.com/profile/Sup
 abadEnt
ATTACH;FMTTYPE="image/jpeg":http://storage.ning.com/topology/rest/1.0/
 file/get/2247961968?profile=original
ATTENDEE;ROLE=REQ-PARTICIPANT;PARTSTAT=ACCEPTED;RSVP=TRUE;CN="Supabad 
 Entertainment":https://trueskool.com/profile/SupabadEnt
END:VEVENT
END:VCALENDAR
