BEGIN:VCALENDAR
PRODID:NingEventWidget-v1
VERSION:2.0
METHOD:PUBLISH
BEGIN:VTIMEZONE
TZID:America/Los_Angeles
X-LIC-LOCATION:America/Los_Angeles
BEGIN:DAYLIGHT
TZOFFSETFROM:-0800
TZOFFSETTO:-0700
TZNAME:PDT
DTSTART:19700308T020000
RRULE:FREQ=YEARLY;BYMONTH=3;BYDAY=2SU
END:DAYLIGHT
BEGIN:STANDARD
TZOFFSETFROM:-0700
TZOFFSETTO:-0800
TZNAME:PST
DTSTART:19701101T020000
RRULE:FREQ=YEARLY;BYMONTH=11;BYDAY=1SU
END:STANDARD
END:VTIMEZONE
BEGIN:VEVENT
UID:1464587:Event:305578
DTSTAMP:20260421T053851Z
SUMMARY:Chuy Gomez BirthDay Bash inside The Ol Skool House Party ft RO
 DNEY O & JOE COOLEY
DESCRIPTION:\n2014 IS HERE and The Party Don't Stop SUPABAD ENTERTAIN
 MENT presentsCHUY GOMEZ BirthDay Bash Inside 'The Ol Skool House Part
 y' with a LIVE performance byRODNEY O & JOE COOLEYRocking Their Hits 
 'Cooley High' 'Supercuts' 'Everlasting Bass & many many more----------
 -------------------------------------------------------------------Par
 ty Music & Party Vibe provided byPos Red, Muzikman Ouma & LL Supreme 
 ----------------------------------------------------------------------
 ------Shadow Ultra Lounge 341 14th stOakland CaSaturday February 15th
  20149pm Doors 21 & OverPurchase Advance Tickets Here http://www.air
 bornetickets.com/product_info.php?products_id=2164&osCsid=23cda0031d8b
 4185ede7b7600a0c8bbc#.Ut9GttXTnnADress Code: No Hoodies, No T-Shirts a
 nd No Team HatsSTANDING ROOM only PARTY and SHOWNO REFUNDS!!----------
 ----------------------------------------------------------------www.su
 pabadentertainment.comTwitter,FaceBook & Instagram: supabadent\n\n\n\n
 \nFor more information visit https://trueskool.com/events/chuy-gomez-b
 irthday-bash-inside-the-ol-skool-house-party-ft
DTSTART;TZID=America/Los_Angeles:20140215T210000
DTEND;TZID=America/Los_Angeles:20140216T020000
CATEGORIES:hip, hop
LOCATION:Shadow Ultra Lounge
WEBSITE:http://airbornetickets.com
URL:http://airbornetickets.com
CONTACT:
ORGANIZER;CN="Supabad Entertainment":https://trueskool.com/profile/Sup
 abadEnt
ATTACH;FMTTYPE="image/jpeg":http://storage.ning.com/topology/rest/1.0/
 file/get/2247957003?profile=original
ATTENDEE;ROLE=REQ-PARTICIPANT;PARTSTAT=ACCEPTED;RSVP=TRUE;CN="Supabad 
 Entertainment":https://trueskool.com/profile/SupabadEnt
END:VEVENT
END:VCALENDAR
