BEGIN:VCALENDAR
PRODID:NingEventWidget-v1
VERSION:2.0
METHOD:PUBLISH
BEGIN:VTIMEZONE
TZID:America/Los_Angeles
X-LIC-LOCATION:America/Los_Angeles
BEGIN:DAYLIGHT
TZOFFSETFROM:-0800
TZOFFSETTO:-0700
TZNAME:PDT
DTSTART:19700308T020000
RRULE:FREQ=YEARLY;BYMONTH=3;BYDAY=2SU
END:DAYLIGHT
BEGIN:STANDARD
TZOFFSETFROM:-0700
TZOFFSETTO:-0800
TZNAME:PST
DTSTART:19701101T020000
RRULE:FREQ=YEARLY;BYMONTH=11;BYDAY=1SU
END:STANDARD
END:VTIMEZONE
BEGIN:VEVENT
UID:1464587:Event:354954
DTSTAMP:20260420T181705Z
SUMMARY:Church (House Music) w/ Vinroc, Renoir and Kool Raul
DESCRIPTION:\n\nTHURSDAY MAY 29\nTrue Skool presents\nChurch Soulful -
  Funky - Latin - Disco - Classic House Music All Night Long!\n\nFeatur
 ing: Vinroc (Triple Threat DJs) Renoir (aka Ren the Vinyl Archaeolog
 ist) Kool Raul\n\n@ The Layover, 1571 Franklin St., Oakland 10pm-2am, 
 NO COVER, 21+\n\nFor more information visit https://trueskool.com/even
 ts/church-house-music-w-vinroc-renoir-and-kool-raul
DTSTART;TZID=America/Los_Angeles:20140529T220000
DTEND;TZID=America/Los_Angeles:20140530T020000
CATEGORIES:"bay area", oakland
LOCATION:The Layover, Oakland, CA
WEBSITE:
URL:
CONTACT:
ORGANIZER:True Skool
ATTACH;FMTTYPE="image/jpeg":http://storage.ning.com/topology/rest/1.0/
 file/get/2247962358?profile=original
ATTENDEE;ROLE=REQ-PARTICIPANT;PARTSTAT=ACCEPTED;RSVP=TRUE;CN="Staff Pi
 ck":https://trueskool.com/profile/Ren
END:VEVENT
END:VCALENDAR
