BEGIN:VCALENDAR
PRODID:NingEventWidget-v1
VERSION:2.0
METHOD:PUBLISH
BEGIN:VTIMEZONE
TZID:America/Los_Angeles
X-LIC-LOCATION:America/Los_Angeles
BEGIN:DAYLIGHT
TZOFFSETFROM:-0800
TZOFFSETTO:-0700
TZNAME:PDT
DTSTART:19700308T020000
RRULE:FREQ=YEARLY;BYMONTH=3;BYDAY=2SU
END:DAYLIGHT
BEGIN:STANDARD
TZOFFSETFROM:-0700
TZOFFSETTO:-0800
TZNAME:PST
DTSTART:19701101T020000
RRULE:FREQ=YEARLY;BYMONTH=11;BYDAY=1SU
END:STANDARD
END:VTIMEZONE
BEGIN:VEVENT
UID:1464587:Event:628927
DTSTAMP:20260422T122751Z
SUMMARY:Chromeo & The Glitch Mob with guest: Com Truise
DESCRIPTION:\nVenue:\nThe Greek TheatreUC Berkeley\n\nLocation:\nBerke
 ley, CA\n\nShow Date:\nFriday, May 29\n\nShow Time:\n7:15PM\n\nOn Sale
  Date:\nThursday, February 12\n\nTicket Price:\n$45.00 - General Admis
 sion*plus applicable service fees\nTickets are also available service 
 charge free at The Fox Theater's Box Office (located on the 19th stree
 t side of the theater) on show dates and on Fridays from noon - 7:00pm
 .\n\n\n\n\n\nFor more information visit https://trueskool.com/events/c
 hromeo-the-glitch-mob-with-guest-com-truise
DTSTART;TZID=America/Los_Angeles:20150529T191500
DTEND;TZID=America/Los_Angeles:20150529T233000
CATEGORIES:"san francisco", oakland, berkley, "san jose", "bay area"
LOCATION:The Greek Theatre UC Berkeley, Berkley, CA
WEBSITE:http://www.ticketmaster.com/event/1C004E38370D7B09?brand=anoth
 erplanet&camefrom=CFC_ANOTHERPLANET
URL:http://www.ticketmaster.com/event/1C004E38370D7B09?brand=anotherpl
 anet&camefrom=CFC_ANOTHERPLANET
CONTACT:
ORGANIZER;CN="Editor's Pick":https://trueskool.com/profile/RentheVinyl
 Archaeologist
ATTACH;FMTTYPE="image/jpeg":http://storage.ning.com/topology/rest/1.0/
 file/get/2247976853?profile=original
ATTENDEE;ROLE=REQ-PARTICIPANT;PARTSTAT=ACCEPTED;RSVP=TRUE;CN="Editor's
  Pick":https://trueskool.com/profile/RentheVinylArchaeologist
END:VEVENT
END:VCALENDAR
