BEGIN:VCALENDAR
PRODID:NingEventWidget-v1
VERSION:2.0
METHOD:PUBLISH
BEGIN:VTIMEZONE
TZID:America/Los_Angeles
X-LIC-LOCATION:America/Los_Angeles
BEGIN:DAYLIGHT
TZOFFSETFROM:-0800
TZOFFSETTO:-0700
TZNAME:PDT
DTSTART:19700308T020000
RRULE:FREQ=YEARLY;BYMONTH=3;BYDAY=2SU
END:DAYLIGHT
BEGIN:STANDARD
TZOFFSETFROM:-0700
TZOFFSETTO:-0800
TZNAME:PST
DTSTART:19701101T020000
RRULE:FREQ=YEARLY;BYMONTH=11;BYDAY=1SU
END:STANDARD
END:VTIMEZONE
BEGIN:VEVENT
UID:1464587:Event:33695
DTSTAMP:20260422T063232Z
SUMMARY:Chillin' 11th Anniversary Party
DESCRIPTION:80 Painter/Photographers\n80 Fashion Designers\n8 DJ's\nAl
 l under one roof for one night.\n$7@door\n21 and up\n\nFor more inform
 ation visit https://trueskool.com/events/chillin-11th-anniversary-part
 y
DTSTART;TZID=America/Los_Angeles:20090613T200000
DTEND;TZID=America/Los_Angeles:20090614T020000
CATEGORIES:"music/arts", -, exhibit
LOCATION:Mezzanine, San Francisco, CA
WEBSITE:http://www.chillinproductions.com/
URL:http://www.chillinproductions.com/
CONTACT:
ORGANIZER:Mixerfriendly
ATTACH;FMTTYPE="image/jpeg":http://storage.ning.com/topology/rest/1.0/
 file/get/2247857712?profile=original
ATTENDEE;ROLE=REQ-PARTICIPANT;PARTSTAT=ACCEPTED;RSVP=TRUE;CN=sarah:htt
 ps://trueskool.com/profile/sarah64
END:VEVENT
END:VCALENDAR
