BEGIN:VCALENDAR
PRODID:NingEventWidget-v1
VERSION:2.0
METHOD:PUBLISH
BEGIN:VTIMEZONE
TZID:America/Los_Angeles
X-LIC-LOCATION:America/Los_Angeles
BEGIN:DAYLIGHT
TZOFFSETFROM:-0800
TZOFFSETTO:-0700
TZNAME:PDT
DTSTART:19700308T020000
RRULE:FREQ=YEARLY;BYMONTH=3;BYDAY=2SU
END:DAYLIGHT
BEGIN:STANDARD
TZOFFSETFROM:-0700
TZOFFSETTO:-0800
TZNAME:PST
DTSTART:19701101T020000
RRULE:FREQ=YEARLY;BYMONTH=11;BYDAY=1SU
END:STANDARD
END:VTIMEZONE
BEGIN:VEVENT
UID:1464587:Event:34918
DTSTAMP:20260423T180213Z
SUMMARY:Chicago's Lubriphonic to Play Boom Boom Room
DESCRIPTION:Hard stomping, adventurous funk band Lubriphonic will play
  the Boom Boom Room with Moon Palace Allstars as the opening act.\n\nF
 or more information visit https://trueskool.com/events/chicagos-lubrip
 honic-to-play
DTSTART;TZID=America/Los_Angeles:20090630T213000
DTEND;TZID=America/Los_Angeles:20090701T020000
CATEGORIES:funk, live, music
LOCATION:Boom Boom Room San Francisco, CA
WEBSITE:http://www.boomboomblues.com/cgi-bin/calendar/index.pl?Calenda
 r=cal_boomboom&View=Event&DateID=6/30/2009&Repeatid=gYB6u8fKOPyLXwFyYi
 XyPHR1H
URL:http://www.boomboomblues.com/cgi-bin/calendar/index.pl?Calendar=ca
 l_boomboom&View=Event&DateID=6/30/2009&Repeatid=gYB6u8fKOPyLXwFyYiXyPH
 R1H
CONTACT:(415) 673-8000
ORGANIZER:
ATTACH;FMTTYPE="image/jpeg":http://storage.ning.com/topology/rest/1.0/
 file/get/2247858079?profile=original
ATTENDEE;ROLE=REQ-PARTICIPANT;PARTSTAT=ACCEPTED;RSVP=TRUE;CN="Nicole F
 razier":https://trueskool.com/profile/NicoleFrazier
END:VEVENT
END:VCALENDAR
