BEGIN:VCALENDAR
PRODID:NingEventWidget-v1
VERSION:2.0
METHOD:PUBLISH
BEGIN:VTIMEZONE
TZID:America/Los_Angeles
X-LIC-LOCATION:America/Los_Angeles
BEGIN:DAYLIGHT
TZOFFSETFROM:-0800
TZOFFSETTO:-0700
TZNAME:PDT
DTSTART:19700308T020000
RRULE:FREQ=YEARLY;BYMONTH=3;BYDAY=2SU
END:DAYLIGHT
BEGIN:STANDARD
TZOFFSETFROM:-0700
TZOFFSETTO:-0800
TZNAME:PST
DTSTART:19701101T020000
RRULE:FREQ=YEARLY;BYMONTH=11;BYDAY=1SU
END:STANDARD
END:VTIMEZONE
BEGIN:VEVENT
UID:1464587:Event:292680
DTSTAMP:20260421T194024Z
SUMMARY:Charlie Murphy's Acid Trip
DESCRIPTION:It's a celebration!\nThursday, January 98pm & 10pm $32\n\n
 For more information visit https://trueskool.com/events/charlie-murphy
 -s-acid-trip
DTSTART;TZID=America/Los_Angeles:20140109T200000
DTEND;TZID=America/Los_Angeles:20140109T233000
CATEGORIES:"bay area", "san francisco", "oakland\""
LOCATION:Yoshi's, Oakland
WEBSITE:http://yoshis.inticketing.com/evlist.php?events=search&searchs
 tr=Charlie+Murphy&smonth=0&sday=0&syear=0&vstate=0
URL:http://yoshis.inticketing.com/evlist.php?events=search&searchstr=C
 harlie+Murphy&smonth=0&sday=0&syear=0&vstate=0
CONTACT:
ORGANIZER;CN="Editor's Pick":https://trueskool.com/profile/RentheVinyl
 Archaeologist
ATTACH;FMTTYPE="image/jpeg":http://storage.ning.com/topology/rest/1.0/
 file/get/2247955678?profile=original
ATTENDEE;ROLE=REQ-PARTICIPANT;PARTSTAT=ACCEPTED;RSVP=TRUE;CN="Sarah - 
 Reggae Gyals":https://trueskool.com/profile/SarahReggaeGyals
ATTENDEE;ROLE=REQ-PARTICIPANT;PARTSTAT=ACCEPTED;RSVP=TRUE;CN="Editor's
  Pick":https://trueskool.com/profile/RentheVinylArchaeologist
END:VEVENT
END:VCALENDAR
