BEGIN:VCALENDAR
PRODID:NingEventWidget-v1
VERSION:2.0
METHOD:PUBLISH
BEGIN:VTIMEZONE
TZID:America/Los_Angeles
X-LIC-LOCATION:America/Los_Angeles
BEGIN:DAYLIGHT
TZOFFSETFROM:-0800
TZOFFSETTO:-0700
TZNAME:PDT
DTSTART:19700308T020000
RRULE:FREQ=YEARLY;BYMONTH=3;BYDAY=2SU
END:DAYLIGHT
BEGIN:STANDARD
TZOFFSETFROM:-0700
TZOFFSETTO:-0800
TZNAME:PST
DTSTART:19701101T020000
RRULE:FREQ=YEARLY;BYMONTH=11;BYDAY=1SU
END:STANDARD
END:VTIMEZONE
BEGIN:VEVENT
UID:1464587:Event:38848
DTSTAMP:20260421T033016Z
SUMMARY:Charleston Pierce Presents: Candy Cotton Club
DESCRIPTION:Fashion Show & Cabaret\nFundraiser Celebrating the Birthda
 y of Charleston Pierce\n\nCome Dressed in your best 20's Style! \n\nPu
 rchase Tickets Online< - NO SERVICE FEES!!\n\n\nDesigners\nSusan K\nWe
 st Coast Leather\nAnayma Wear\n\nFeatured Artist\nTap Dancer, Tyler Kn
 owlin\n\nEmcees\nSterling James\nHalili Knox\n\nSpecial Guest Host\nNa
 rada Michael Walden\n\nSponsors\nFashion on the Square\nHaamonii Shoch
 u\nKBLX\nPhuket Beer\nSan Francisco Institute of Esthetics and Cosmeto
 logy\nStyle Lounge\nVIP Lineup\nYB Timepieces\n\nA Portion of the Proc
 eeds Benefit\nKids on the Move America\n\nWatch Video about the Charit
 y\n\nPurchase Tickets Online - NO SERVICE FEES!!\n\nGeneral\n$18 onlin
 e\n$25 at the door\nDoors open at 7pm\n\nElite\n$35 online\n$40 at the
  door\nDoors open at 6pm\nHappy Hour drinks and mingling with Charlest
 on in the VIP party room.\nHosted appetizers.\nRunway Seating.\n\nHost
 s:\nConstance Adamopoulos, Anna Alioto, Suzanne Agasi, Steve Baker, Ga
 ry Banks, Sonia Bell, Adrian Boone, Tenika Blue, London Breed, Yanad B
 urell, Sal Castenada, James Coulter, Peter Crane, Michael D, Craig Dav
 is, Steve Davis, Debra L., Harry Denton, Ed Donaldson, Darlene Dumpit,
  Larry Hashbarger, Catherine Hall, Mieasha Harris, Keith Hazell, Kato,
  Betsie Hidalgo, Lynn Houston, Derrick Johnson, Jennifer Jones, Randy 
 Jay Gordan, Celina Lopez, Isabel Lozano, Leslie Lum, Damion Matthews, 
 Marian Mullally, Keyatta Shade, Lina Shatara, Yetunde Schuhmann, Irv S
 pivak, Speedo, Martel, Ayesha Wadhwa, Gardner Williams\n\nDonation\n\n
 You can also use the link to make a donation if you can't make it to t
 o the event but would like to support the kids. Thank you! \n\n\nPurch
 ase Tickets\n\n\n\nFor more information visit https://trueskool.com/ev
 ents/charleston-pierce-presents
DTSTART;TZID=America/Los_Angeles:20090827T190000
DTEND;TZID=America/Los_Angeles:20090828T020000
CATEGORIES:fashion, show, fundraiser
LOCATION:Broadway Studios, San Francisco, CA.
WEBSITE:
URL:
CONTACT:
ORGANIZER:Charleston Pierce
ATTACH;FMTTYPE="image/jpeg":http://storage.ning.com/topology/rest/1.0/
 file/get/2247860131?profile=original
ATTENDEE;ROLE=REQ-PARTICIPANT;PARTSTAT=ACCEPTED;RSVP=TRUE;CN="Imani Br
 own":https://trueskool.com/profile/ImaniBrown
END:VEVENT
END:VCALENDAR
