BEGIN:VCALENDAR
PRODID:NingEventWidget-v1
VERSION:2.0
METHOD:PUBLISH
BEGIN:VTIMEZONE
TZID:America/Los_Angeles
X-LIC-LOCATION:America/Los_Angeles
BEGIN:DAYLIGHT
TZOFFSETFROM:-0800
TZOFFSETTO:-0700
TZNAME:PDT
DTSTART:19700308T020000
RRULE:FREQ=YEARLY;BYMONTH=3;BYDAY=2SU
END:DAYLIGHT
BEGIN:STANDARD
TZOFFSETFROM:-0700
TZOFFSETTO:-0800
TZNAME:PST
DTSTART:19701101T020000
RRULE:FREQ=YEARLY;BYMONTH=11;BYDAY=1SU
END:STANDARD
END:VTIMEZONE
BEGIN:VEVENT
UID:1464587:Event:267707
DTSTAMP:20260421T150654Z
SUMMARY:Chance The Rapper's Social Experiment
DESCRIPTION:Chance The Rapper's Social Experiment\nwith Special Guests
  DJ Rashad & Spinn\nWednesday December 18, 2013\n\nSPECS\n\nThe Regenc
 y Ballroom\nSan Francisco, CA\nShow time: 8:00pm\nDoor time: 7:00pm\nA
 ge: All Ages+\n\n\nTICKETS\n\nTickets Available: Friday November 8, 20
 13\n$22.50*\n* Service and/or handling fees are added to the price of 
 each ticket.\n\n\n\nFor more information visit https://trueskool.com/e
 vents/chance-the-rapper-s-social-experiment
DTSTART;TZID=America/Los_Angeles:20131218T200000
DTEND;TZID=America/Los_Angeles:20131218T230000
CATEGORIES:"san francisco"
LOCATION:The Regency Ballroom, San Francisco
WEBSITE:http://www.axs.com/events/246077/chance-the-rapper-s-social-ex
 periment-tickets?skin=goldenvoice
URL:http://www.axs.com/events/246077/chance-the-rapper-s-social-experi
 ment-tickets?skin=goldenvoice
CONTACT:
ORGANIZER;CN="Editor's Pick":https://trueskool.com/profile/RentheVinyl
 Archaeologist
ATTACH;FMTTYPE="image/jpeg":http://storage.ning.com/topology/rest/1.0/
 file/get/2247953247?profile=original
ATTENDEE;ROLE=REQ-PARTICIPANT;PARTSTAT=ACCEPTED;RSVP=TRUE;CN="Editor's
  Pick":https://trueskool.com/profile/RentheVinylArchaeologist
END:VEVENT
END:VCALENDAR
