BEGIN:VCALENDAR
PRODID:NingEventWidget-v1
VERSION:2.0
METHOD:PUBLISH
BEGIN:VTIMEZONE
TZID:America/Los_Angeles
X-LIC-LOCATION:America/Los_Angeles
BEGIN:DAYLIGHT
TZOFFSETFROM:-0800
TZOFFSETTO:-0700
TZNAME:PDT
DTSTART:19700308T020000
RRULE:FREQ=YEARLY;BYMONTH=3;BYDAY=2SU
END:DAYLIGHT
BEGIN:STANDARD
TZOFFSETFROM:-0700
TZOFFSETTO:-0800
TZNAME:PST
DTSTART:19701101T020000
RRULE:FREQ=YEARLY;BYMONTH=11;BYDAY=1SU
END:STANDARD
END:VTIMEZONE
BEGIN:VEVENT
UID:1464587:Event:839548
DTSTAMP:20260422T063130Z
SUMMARY:Chance the Rapper
DESCRIPTION:Chance the Rapper\r\nThu • Oct 16, 2025 • 8:00 PM\r\nT
 he Masonic 1111 California St. San Francisco, CA\n\nFor more informati
 on visit https://trueskool.com/events/chance-the-rapper-2
DTSTART;TZID=America/Los_Angeles:20251016T200000
DTEND;TZID=America/Los_Angeles:20251016T233000
CATEGORIES:"bay area", oakland, "san francisco", "san jose", berkeley
LOCATION:The Masonic, SF
WEBSITE:https://www.ticketmaster.com/chance-the-rapper-and-we-back-san
 -francisco-california-10-16-2025/event/1C0063070F6E92CD?_gl=1*15lm89p*
 _ga*MjYwNDU0MzE5LjE3NTAzMzM4MDM.*_ga_C1T806G4DF*czE3NTY5MjUxMjIkbzIkZz
 EkdDE3NTY5MjUyMjkkajQyJGwwJGgw*_ga_H1KKSGW33X*czE3NTY5MjUxMjMkbzIkZzEk
 dDE3NTY5MjUyMjkkajQxJGwwJGgw
URL:https://www.ticketmaster.com/chance-the-rapper-and-we-back-san-fra
 ncisco-california-10-16-2025/event/1C0063070F6E92CD?_gl=1*15lm89p*_ga*
 MjYwNDU0MzE5LjE3NTAzMzM4MDM.*_ga_C1T806G4DF*czE3NTY5MjUxMjIkbzIkZzEkdD
 E3NTY5MjUyMjkkajQyJGwwJGgw*_ga_H1KKSGW33X*czE3NTY5MjUxMjMkbzIkZzEkdDE3
 NTY5MjUyMjkkajQxJGwwJGgw
CONTACT:
ORGANIZER;CN="Editor's Pick":https://trueskool.com/profile/RentheVinyl
 Archaeologist
ATTACH;FMTTYPE="image/jpeg":https://storage.ning.com/topology/rest/1.0
 /file/get/13704252060?profile=original
ATTENDEE;ROLE=REQ-PARTICIPANT;PARTSTAT=ACCEPTED;RSVP=TRUE;CN="Editor's
  Pick":https://trueskool.com/profile/RentheVinylArchaeologist
END:VEVENT
END:VCALENDAR
