BEGIN:VCALENDAR
PRODID:NingEventWidget-v1
VERSION:2.0
METHOD:PUBLISH
BEGIN:VTIMEZONE
TZID:America/Los_Angeles
X-LIC-LOCATION:America/Los_Angeles
BEGIN:DAYLIGHT
TZOFFSETFROM:-0800
TZOFFSETTO:-0700
TZNAME:PDT
DTSTART:19700308T020000
RRULE:FREQ=YEARLY;BYMONTH=3;BYDAY=2SU
END:DAYLIGHT
BEGIN:STANDARD
TZOFFSETFROM:-0700
TZOFFSETTO:-0800
TZNAME:PST
DTSTART:19701101T020000
RRULE:FREQ=YEARLY;BYMONTH=11;BYDAY=1SU
END:STANDARD
END:VTIMEZONE
BEGIN:VEVENT
UID:1464587:Event:660186
DTSTAMP:20260422T081234Z
SUMMARY:Chance The Rapper
DESCRIPTION: \n\nWed, Apr 26, 2017 Grammy Award Winning!\nChance T
 he Rapper\nSpring Tour 2017\n\nOracle Arena, Oakland 08:00 PM\n>> BUY
  TICKETS\n\n\n\n\n\n\n\n\nFor more information visit https://trueskool
 .com/events/chance-the-rapper-1
DTSTART;TZID=America/Los_Angeles:20170426T200000
DTEND;TZID=America/Los_Angeles:20170427T230000
CATEGORIES:"bay area", "san francisco"
LOCATION:Oracle Arena, Oakland
WEBSITE:http://www.ticketmaster.com/event/1C00524887E0478A
URL:http://www.ticketmaster.com/event/1C00524887E0478A
CONTACT:
ORGANIZER:Goldenvoice
ATTACH;FMTTYPE="image/jpeg":http://storage.ning.com/topology/rest/1.0/
 file/get/2247993611?profile=original
ATTENDEE;ROLE=REQ-PARTICIPANT;PARTSTAT=ACCEPTED;RSVP=TRUE;CN="Editor's
  Pick":https://trueskool.com/profile/RentheVinylArchaeologist
END:VEVENT
END:VCALENDAR
