BEGIN:VCALENDAR
PRODID:NingEventWidget-v1
VERSION:2.0
METHOD:PUBLISH
BEGIN:VTIMEZONE
TZID:America/Los_Angeles
X-LIC-LOCATION:America/Los_Angeles
BEGIN:DAYLIGHT
TZOFFSETFROM:-0800
TZOFFSETTO:-0700
TZNAME:PDT
DTSTART:19700308T020000
RRULE:FREQ=YEARLY;BYMONTH=3;BYDAY=2SU
END:DAYLIGHT
BEGIN:STANDARD
TZOFFSETFROM:-0700
TZOFFSETTO:-0800
TZNAME:PST
DTSTART:19701101T020000
RRULE:FREQ=YEARLY;BYMONTH=11;BYDAY=1SU
END:STANDARD
END:VTIMEZONE
BEGIN:VEVENT
UID:1464587:Event:49265
DTSTAMP:20260421T235732Z
SUMMARY:Chali 2na (Jurassic 5) w/ live band, plus Kev Choice
DESCRIPTION:CLICK HERE TO WIN A PAIR OF TICKETS\nhttp://www.trueskool.
 com/group/wintickets\n\n\nFriday, March 26th\nChali 2na\nperforming wi
 th a live band\nplus Kev Choice\n\n@ Shattuck Downlow, 2484 Shattuck A
 ve., Berkeley\ndoors at 9pm\ntickets $15adv $18door\nBuy Tickets:\nhtt
 p://ineffablerecords.inticketing.com/events/80862/CHALI-2NA-w-Live-Ban
 d\n\n\nFor more information visit https://trueskool.com/events/chali-2
 na-jurassic-5-w-live
DTSTART;TZID=America/Los_Angeles:20100326T210000
DTEND;TZID=America/Los_Angeles:20100327T020000
CATEGORIES:hip, hop
LOCATION:Shattuck Downlow, Berkeley
WEBSITE:http://ineffablerecords.inticketing.com/events/80862/CHALI-2NA
 -w-Live-Band
URL:http://ineffablerecords.inticketing.com/events/80862/CHALI-2NA-w-L
 ive-Band
CONTACT:
ORGANIZER:Ineffable
ATTACH;FMTTYPE="image/jpeg":http://storage.ning.com/topology/rest/1.0/
 file/get/2247874529?profile=original
ATTENDEE;ROLE=REQ-PARTICIPANT;PARTSTAT=ACCEPTED;RSVP=TRUE;CN="Editor's
  Pick":https://trueskool.com/profile/RentheVinylArchaeologist
ATTENDEE;ROLE=REQ-PARTICIPANT;PARTSTAT=TENTATIVE;RSVP=TRUE;CN="takumi 
 suzuki":https://trueskool.com/profile/takumisuzuki
END:VEVENT
END:VCALENDAR
