BEGIN:VCALENDAR
PRODID:NingEventWidget-v1
VERSION:2.0
METHOD:PUBLISH
BEGIN:VTIMEZONE
TZID:America/Los_Angeles
X-LIC-LOCATION:America/Los_Angeles
BEGIN:DAYLIGHT
TZOFFSETFROM:-0800
TZOFFSETTO:-0700
TZNAME:PDT
DTSTART:19700308T020000
RRULE:FREQ=YEARLY;BYMONTH=3;BYDAY=2SU
END:DAYLIGHT
BEGIN:STANDARD
TZOFFSETFROM:-0700
TZOFFSETTO:-0800
TZNAME:PST
DTSTART:19701101T020000
RRULE:FREQ=YEARLY;BYMONTH=11;BYDAY=1SU
END:STANDARD
END:VTIMEZONE
BEGIN:VEVENT
UID:1464587:Event:41630
DTSTAMP:20260421T035948Z
SUMMARY:Chali 2na (Jurassic 5), Gift of Gab (Blackalicious), Mr. Lif, 
 Lyrics Born (WIN TICKETS)
DESCRIPTION:WIN A PAIR OF TICKETS. Send your FULL NAME to trueskoolcon
 test@gmail.com with \"Chali\" in the Subject line. Winner will be draw
 n randomly and announced 3 days prior to the event.\n\n\nSaturday, Nov
 ember 07\nChali 2na (Jurassic 5)\nGift of Gab (Blackalicious)\nMr. Lif
 \nHosted by Lyrics Born\n\nThe Independent\n628 Divisadero (btwn Grove
  & Hayes)\nSan Francisco CA 94117\ndoors 8:30PM\nshow 9:00PM\nBuy Tick
 ets\n\n\n\n\n\n\n\n\n\nFor more information visit https://trueskool.co
 m/events/chali-2na-jurassic-5-gift-of
DTSTART;TZID=America/Los_Angeles:20091107T203000
DTEND;TZID=America/Los_Angeles:20091107T230000
CATEGORIES:hip, hop
LOCATION:THE INDEPENDENT - SAN FRANCISCO, CA
WEBSITE:http://www.apeconcerts.com/popArtist07.cfm?cID=2261
URL:http://www.apeconcerts.com/popArtist07.cfm?cID=2261
CONTACT:
ORGANIZER:Another Planet Entertainment
ATTACH;FMTTYPE="image/jpeg":http://storage.ning.com/topology/rest/1.0/
 file/get/2247867419?profile=original
ATTENDEE;ROLE=REQ-PARTICIPANT;PARTSTAT=ACCEPTED;RSVP=TRUE;CN="Ren the 
 Vinyl Archaeologist":https://trueskool.com/profile/xh51jvilojur
END:VEVENT
END:VCALENDAR
