BEGIN:VCALENDAR
PRODID:NingEventWidget-v1
VERSION:2.0
METHOD:PUBLISH
BEGIN:VTIMEZONE
TZID:America/Los_Angeles
X-LIC-LOCATION:America/Los_Angeles
BEGIN:DAYLIGHT
TZOFFSETFROM:-0800
TZOFFSETTO:-0700
TZNAME:PDT
DTSTART:19700308T020000
RRULE:FREQ=YEARLY;BYMONTH=3;BYDAY=2SU
END:DAYLIGHT
BEGIN:STANDARD
TZOFFSETFROM:-0700
TZOFFSETTO:-0800
TZNAME:PST
DTSTART:19701101T020000
RRULE:FREQ=YEARLY;BYMONTH=11;BYDAY=1SU
END:STANDARD
END:VTIMEZONE
BEGIN:VEVENT
UID:1464587:Event:68990
DTSTAMP:20260420T130456Z
SUMMARY:Chaka Khan
DESCRIPTION:Chaka Khan & Friends\n\nParadise Theater\n2403 Grand Conco
 urse, Bronx, NY 10468\nSat, 11/20/10\n08:00 PM\nFind Tickets\n \n\nFor
  more information visit https://trueskool.com/events/chaka-khan
DTSTART;TZID=America/Los_Angeles:20101120T200000
DTEND;TZID=America/Los_Angeles:20101120T230000
CATEGORIES:bronx, ny
LOCATION:Paradise Theater, Bronx, NY
WEBSITE:http://www.ticketmaster.com/event/0000450CC27E693A?artistid=76
 7955&majorcatid=10001&minorcatid=202
URL:http://www.ticketmaster.com/event/0000450CC27E693A?artistid=767955
 &majorcatid=10001&minorcatid=202
CONTACT:
ORGANIZER:Paradise Theater
ATTACH;FMTTYPE="image/jpeg":http://storage.ning.com/topology/rest/1.0/
 file/get/2247884904?profile=original
ATTENDEE;ROLE=REQ-PARTICIPANT;PARTSTAT=ACCEPTED;RSVP=TRUE;CN="Editor's
  Pick":https://trueskool.com/profile/RentheVinylArchaeologist
END:VEVENT
END:VCALENDAR
