BEGIN:VCALENDAR
PRODID:NingEventWidget-v1
VERSION:2.0
METHOD:PUBLISH
BEGIN:VTIMEZONE
TZID:America/Los_Angeles
X-LIC-LOCATION:America/Los_Angeles
BEGIN:DAYLIGHT
TZOFFSETFROM:-0800
TZOFFSETTO:-0700
TZNAME:PDT
DTSTART:19700308T020000
RRULE:FREQ=YEARLY;BYMONTH=3;BYDAY=2SU
END:DAYLIGHT
BEGIN:STANDARD
TZOFFSETFROM:-0700
TZOFFSETTO:-0800
TZNAME:PST
DTSTART:19701101T020000
RRULE:FREQ=YEARLY;BYMONTH=11;BYDAY=1SU
END:STANDARD
END:VTIMEZONE
BEGIN:VEVENT
UID:1464587:Event:54894
DTSTAMP:20260420T213051Z
SUMMARY:Ce'Cile @ Rockit Room
DESCRIPTION:Dancehall Sensation Ce'Cile Live @ Rockit Room with specia
 l guests Daddy Rolo, Empress Ilexis, and DJ Daneekah\n\nFor more infor
 mation visit https://trueskool.com/events/cecile-rockit-room
DTSTART;TZID=America/Los_Angeles:20100501T210000
DTEND;TZID=America/Los_Angeles:20100502T013000
CATEGORIES:dancehall, reggae
LOCATION:Rockit Room, San Francisco, CA
WEBSITE:http://www.rock-it-room.com
URL:http://www.rock-it-room.com
CONTACT:650-922-6946
ORGANIZER:Rockit Room, Dee Cee's Soul Shakedown, Reggae Gold
ATTACH;FMTTYPE="image/jpeg":http://storage.ning.com/topology/rest/1.0/
 file/get/2247877557?profile=original
ATTENDEE;ROLE=REQ-PARTICIPANT;PARTSTAT=ACCEPTED;RSVP=TRUE;CN="Rockit R
 oom":https://trueskool.com/profile/BenThompson
END:VEVENT
END:VCALENDAR
