BEGIN:VCALENDAR
PRODID:NingEventWidget-v1
VERSION:2.0
METHOD:PUBLISH
BEGIN:VTIMEZONE
TZID:America/Los_Angeles
X-LIC-LOCATION:America/Los_Angeles
BEGIN:DAYLIGHT
TZOFFSETFROM:-0800
TZOFFSETTO:-0700
TZNAME:PDT
DTSTART:19700308T020000
RRULE:FREQ=YEARLY;BYMONTH=3;BYDAY=2SU
END:DAYLIGHT
BEGIN:STANDARD
TZOFFSETFROM:-0700
TZOFFSETTO:-0800
TZNAME:PST
DTSTART:19701101T020000
RRULE:FREQ=YEARLY;BYMONTH=11;BYDAY=1SU
END:STANDARD
END:VTIMEZONE
BEGIN:VEVENT
UID:1464587:Event:203834
DTSTAMP:20260421T014835Z
SUMMARY:CASSIE Hosts OTN @CAMEO THIS SATURDAY, May 10th!
DESCRIPTION:CASSIE\nHOSTS\nOTN \nThis Saturday, May 11th\nat\n\nMUSIC
  BY:\nDJ AFFECT | DJ BULLETPROOF | DJ FERGIE & SPRINGER\nLADIES!\nMake
  sure to Text:\n\"CAMEO\" to 38714 \nFor Complimentary CIROC from
  11PM - 12:30AM\n1445 WASHINGTON AVE. MIAMI BEACH\nFOR more info call:
  786-319-1477/ 305-438-9488\n\nFor more information visit https://true
 skool.com/events/cassie-hosts-otn-cameo-this-saturday-may-10th
DTSTART;TZID=America/Los_Angeles:20130511T230000
DTEND;TZID=America/Los_Angeles:20130512T050000
CATEGORIES:miami
LOCATION:Cameo
WEBSITE:
URL:
CONTACT:7863191477
ORGANIZER;CN="Rockers Island":https://trueskool.com/profile/RockersIsl
 and
ATTACH;FMTTYPE="image/jpeg":http://storage.ning.com/topology/rest/1.0/
 file/get/2247942284?profile=original
ATTENDEE;ROLE=REQ-PARTICIPANT;PARTSTAT=ACCEPTED;RSVP=TRUE;CN="Rockers 
 Island":https://trueskool.com/profile/RockersIsland
END:VEVENT
END:VCALENDAR
