BEGIN:VCALENDAR
PRODID:NingEventWidget-v1
VERSION:2.0
METHOD:PUBLISH
BEGIN:VTIMEZONE
TZID:America/Los_Angeles
X-LIC-LOCATION:America/Los_Angeles
BEGIN:DAYLIGHT
TZOFFSETFROM:-0800
TZOFFSETTO:-0700
TZNAME:PDT
DTSTART:19700308T020000
RRULE:FREQ=YEARLY;BYMONTH=3;BYDAY=2SU
END:DAYLIGHT
BEGIN:STANDARD
TZOFFSETFROM:-0700
TZOFFSETTO:-0800
TZNAME:PST
DTSTART:19701101T020000
RRULE:FREQ=YEARLY;BYMONTH=11;BYDAY=1SU
END:STANDARD
END:VTIMEZONE
BEGIN:VEVENT
UID:1464587:Event:674715
DTSTAMP:20260421T133849Z
SUMMARY:Casey Veggies, Zoey Dollaz, Priceless Da Roc, Healthy Chill (P
 OSTPONED)
DESCRIPTION:ENTER TO WIN A PAIR OF TICKETS. WINNER WILL BE DRAWN RANDO
 MLY AND ANNOUNCED 2 DAYS PRIOR TO EVENT.\r\n\r\nMonday May 14, 2018 Ca
 sey Veggies, Zoey Dollaz Priceless Da Roc, Healthy Chill\r\n*THIS EVEN
 T HAS BEEN POSTPONED\r\n\r\n@ The Independent, 628 Divisadero St, Sa
 n Francisco, CA\r\nDoors: 7:30 PM. Show: 8:00 PM 21 and over $16 ADV -
  $18 DOOR >> BUY TICKETS\r\n\n\nFor more information visit https://tru
 eskool.com/events/casey-veggies-zoey-dollaz-priceless-da-roc-healthy-c
 hill
DTSTART;TZID=America/Los_Angeles:20180514T193000
DTEND;TZID=America/Los_Angeles:20180514T230000
CATEGORIES:"bay area", "san francisco"
LOCATION:The Independent, San Francisco
WEBSITE:https://www.ticketfly.com/purchase/event/1664545?q=6764a54b-da
 fb-40cf-84a5-f4871b1a3e96&amp;amp;amp;amp;p=b8b90d39-9f90-4df5-8900-b6
 99839e5463&amp;amp;amp;amp;ts=1525312736&amp;amp;amp;amp;c=ticketfly&a
 mp;amp;amp;amp;e=0010c&amp;amp;amp;amp;rt=Safetynet&amp;amp;amp;amp;h=
 db8b625bbec7b739334dc3ddd85cdf0e
URL:https://www.ticketfly.com/purchase/event/1664545?q=6764a54b-dafb-4
 0cf-84a5-f4871b1a3e96&amp;amp;amp;amp;p=b8b90d39-9f90-4df5-8900-b69983
 9e5463&amp;amp;amp;amp;ts=1525312736&amp;amp;amp;amp;c=ticketfly&amp;a
 mp;amp;amp;e=0010c&amp;amp;amp;amp;rt=Safetynet&amp;amp;amp;amp;h=db8b
 625bbec7b739334dc3ddd85cdf0e
CONTACT:
ORGANIZER:Another Planet Ent
ATTACH;FMTTYPE="image/jpeg":http://storage.ning.com/topology/rest/1.0/
 file/get/2248006106?profile=original
ATTENDEE;ROLE=REQ-PARTICIPANT;PARTSTAT=ACCEPTED;RSVP=TRUE;CN="Editor's
  Pick":https://trueskool.com/profile/RentheVinylArchaeologist
END:VEVENT
END:VCALENDAR
