BEGIN:VCALENDAR
PRODID:NingEventWidget-v1
VERSION:2.0
METHOD:PUBLISH
BEGIN:VTIMEZONE
TZID:America/Los_Angeles
X-LIC-LOCATION:America/Los_Angeles
BEGIN:DAYLIGHT
TZOFFSETFROM:-0800
TZOFFSETTO:-0700
TZNAME:PDT
DTSTART:19700308T020000
RRULE:FREQ=YEARLY;BYMONTH=3;BYDAY=2SU
END:DAYLIGHT
BEGIN:STANDARD
TZOFFSETFROM:-0700
TZOFFSETTO:-0800
TZNAME:PST
DTSTART:19701101T020000
RRULE:FREQ=YEARLY;BYMONTH=11;BYDAY=1SU
END:STANDARD
END:VTIMEZONE
BEGIN:VEVENT
UID:1464587:Event:842215
DTSTAMP:20260421T021759Z
SUMMARY:Carl Craig
DESCRIPTION:Carl Craig\r\nFriday, April 10th, 9pm - 2am\r\nPublic Work
 s 161 Erie St San Francisco, CA\n\nFor more information visit https://
 trueskool.com/events/carl-craig
DTSTART;TZID=America/Los_Angeles:20260410T210000
DTEND;TZID=America/Los_Angeles:20260411T020000
CATEGORIES:"bay area", oakland, "san francisco", "san jose", berkeley
LOCATION:Public Works, SF
WEBSITE:https://www.tixr.com/groups/publicsf/events/detroit-love-w-car
 l-craig-feat-mike-banks-more-166213?utm_source=publicsf&amp;utm_medium
 =venuewebsite
URL:https://www.tixr.com/groups/publicsf/events/detroit-love-w-carl-cr
 aig-feat-mike-banks-more-166213?utm_source=publicsf&amp;utm_medium=ven
 uewebsite
CONTACT:
ORGANIZER;CN="Editor's Pick":https://trueskool.com/profile/RentheVinyl
 Archaeologist
ATTACH;FMTTYPE="image/jpeg":https://storage.ning.com/topology/rest/1.0
 /file/get/31086323852?profile=original
ATTENDEE;ROLE=REQ-PARTICIPANT;PARTSTAT=ACCEPTED;RSVP=TRUE;CN="Editor's
  Pick":https://trueskool.com/profile/RentheVinylArchaeologist
END:VEVENT
END:VCALENDAR
