BEGIN:VCALENDAR
PRODID:NingEventWidget-v1
VERSION:2.0
METHOD:PUBLISH
BEGIN:VTIMEZONE
TZID:America/Los_Angeles
X-LIC-LOCATION:America/Los_Angeles
BEGIN:DAYLIGHT
TZOFFSETFROM:-0800
TZOFFSETTO:-0700
TZNAME:PDT
DTSTART:19700308T020000
RRULE:FREQ=YEARLY;BYMONTH=3;BYDAY=2SU
END:DAYLIGHT
BEGIN:STANDARD
TZOFFSETFROM:-0700
TZOFFSETTO:-0800
TZNAME:PST
DTSTART:19701101T020000
RRULE:FREQ=YEARLY;BYMONTH=11;BYDAY=1SU
END:STANDARD
END:VTIMEZONE
BEGIN:VEVENT
UID:1464587:Event:30579
DTSTAMP:20260421T074225Z
SUMMARY:Camp Lo Record Release Party
DESCRIPTION:If you Love Hip Hop then you don't want to miss this Live 
 performance by Camp Lo! This event will also feature three of the Bay 
 Area's best DJ's : Apollo (Triple Threat) Vs. Sake 1, & Koo-C (Zulu na
 tion). Hosted by Tyranny (Digital Underground)\n\nTICKETS AVAILABLE HE
 RE:\nhttp://www.brownpapertickets.com/event/63084\n\nFor more informat
 ion visit https://trueskool.com/events/camp-lo-record-release-party
DTSTART;TZID=America/Los_Angeles:20090521T220000
DTEND;TZID=America/Los_Angeles:20090522T030000
CATEGORIES:hip, hop
LOCATION:Mighty, San Francisco
WEBSITE:http://www.mighty119.com
URL:http://www.mighty119.com
CONTACT:
ORGANIZER;CN="Carey Kopp":https://trueskool.com/profile/k85
ATTACH;FMTTYPE="image/jpeg":http://storage.ning.com/topology/rest/1.0/
 file/get/2247855795?profile=original
ATTENDEE;ROLE=REQ-PARTICIPANT;PARTSTAT=ACCEPTED;RSVP=TRUE;CN="Carey Ko
 pp":https://trueskool.com/profile/k85
END:VEVENT
END:VCALENDAR
