BEGIN:VCALENDAR
PRODID:NingEventWidget-v1
VERSION:2.0
METHOD:PUBLISH
BEGIN:VTIMEZONE
TZID:America/Los_Angeles
X-LIC-LOCATION:America/Los_Angeles
BEGIN:DAYLIGHT
TZOFFSETFROM:-0800
TZOFFSETTO:-0700
TZNAME:PDT
DTSTART:19700308T020000
RRULE:FREQ=YEARLY;BYMONTH=3;BYDAY=2SU
END:DAYLIGHT
BEGIN:STANDARD
TZOFFSETFROM:-0700
TZOFFSETTO:-0800
TZNAME:PST
DTSTART:19701101T020000
RRULE:FREQ=YEARLY;BYMONTH=11;BYDAY=1SU
END:STANDARD
END:VTIMEZONE
BEGIN:VEVENT
UID:1464587:Event:32834
DTSTAMP:20260421T042848Z
SUMMARY:Camp Lo Live!
DESCRIPTION:OFFICIAL STONE & ROB ALBUM RELEASE!\n\nFEATURING STREET ME
 DIA\n\nDJ APOLLO VS. DJ SAKE ONE\n\nDJ KOO-C\n\nMAY 21ST 2009\n\n@ MIG
 HTY 119 UTAH ST.\n\nWWW.MIGHTY119.COM\n\nFor more information visit ht
 tps://trueskool.com/events/camp-lo-live
DTSTART;TZID=America/Los_Angeles:20090521T220000
DTEND;TZID=America/Los_Angeles:20090522T150000
CATEGORIES:live, hip, "hop!"
LOCATION:MIGHTY, SF
WEBSITE:http://WWW.MIGHTY119.COM
URL:http://WWW.MIGHTY119.COM
CONTACT:510*709*9695
ORGANIZER:MITCHELL P.
ATTACH;FMTTYPE="image/jpeg":http://storage.ning.com/topology/rest/1.0/
 file/get/2247857371?profile=original
ATTENDEE;ROLE=REQ-PARTICIPANT;PARTSTAT=ACCEPTED;RSVP=TRUE;CN="mitchell
  P.":https://trueskool.com/profile/mitchellP
END:VEVENT
END:VCALENDAR
