BEGIN:VCALENDAR
PRODID:NingEventWidget-v1
VERSION:2.0
METHOD:PUBLISH
BEGIN:VTIMEZONE
TZID:America/Los_Angeles
X-LIC-LOCATION:America/Los_Angeles
BEGIN:DAYLIGHT
TZOFFSETFROM:-0800
TZOFFSETTO:-0700
TZNAME:PDT
DTSTART:19700308T020000
RRULE:FREQ=YEARLY;BYMONTH=3;BYDAY=2SU
END:DAYLIGHT
BEGIN:STANDARD
TZOFFSETFROM:-0700
TZOFFSETTO:-0800
TZNAME:PST
DTSTART:19701101T020000
RRULE:FREQ=YEARLY;BYMONTH=11;BYDAY=1SU
END:STANDARD
END:VTIMEZONE
BEGIN:VEVENT
UID:1464587:Event:654794
DTSTAMP:20260422T044705Z
SUMMARY:Cam'ron
DESCRIPTION:Cameron Giles, better known worldwide as the Grammy-nomina
 ted, multiplatinum-selling rapper Cam’ron, is one of the few artists
  in hip-hop who has managed to remain relevant for nearly as long as t
 he music has existed. Born and raised in Harlem, Cam’ron epitomizes 
 the unmatched entrepreneurial spirit of the neighborhood between the 1
 10th and 155th blocks of Upper Manhattan, having successfully tackled 
 the roles of hip-hop artist, director, actor, screenwriter, designer, 
 and entrepreneur with finesse. He is the de facto leader and founding 
 member of The Diplomats, arguably one of the most influential crews in
  hip-hop, that has left an indelible mark on the style, language, and 
 swagger of both New York City and hip-hop culture.\n\nCam’ron is und
 oubtedly one of the greatest anti-heroes in hip-hop: he’s the man wh
 o spawned a thousand memes, drove an unmistakable “Laffy Taffy” Ra
 nge Rover, wore head-to-toe pink mink in the 2002 Mercedes Benz NY Fas
 hion Week, told Anderson Cooper he wouldn’t snitch on a hypothetical
  serial killer neighbor, humiliated Bill O’Reilly on his own show, c
 losed out Mark McNairy’s runway show wearing custom Dipset capes, an
 d whose face unofficially re-appropriated on everything from orthopedi
 c shoes to Valentine’s Day cards. Cam’ron is truly one of a kind, 
 a paradoxical living legend in pop culture whose point of view as hyst
 erical as it is harrowing and accessible as it is absurd. Unapologetic
  and unstoppable, Killa Cam is back with a vengeance.\nMore info to be
  announced.\n\nFor more information visit https://trueskool.com/events
 /cam-ron
DTSTART;TZID=America/Los_Angeles:20161217T210000
DTEND;TZID=America/Los_Angeles:20161218T020000
CATEGORIES:"san francisco", "bay area"
LOCATION:Mezzanine, San Francisco
WEBSITE:https://camronatmezzanine.eventbrite.com/?aff=truesk
URL:https://camronatmezzanine.eventbrite.com/?aff=truesk
CONTACT:4156258880
ORGANIZER;CN=MezzanineSF:https://trueskool.com/profile/MezzanineSF
ATTACH;FMTTYPE="image/jpeg":http://storage.ning.com/topology/rest/1.0/
 file/get/2247991993?profile=original
ATTENDEE;ROLE=REQ-PARTICIPANT;PARTSTAT=ACCEPTED;RSVP=TRUE;CN=Mezzanine
 SF:https://trueskool.com/profile/MezzanineSF
END:VEVENT
END:VCALENDAR
