BEGIN:VCALENDAR
PRODID:NingEventWidget-v1
VERSION:2.0
METHOD:PUBLISH
BEGIN:VTIMEZONE
TZID:America/Los_Angeles
X-LIC-LOCATION:America/Los_Angeles
BEGIN:DAYLIGHT
TZOFFSETFROM:-0800
TZOFFSETTO:-0700
TZNAME:PDT
DTSTART:19700308T020000
RRULE:FREQ=YEARLY;BYMONTH=3;BYDAY=2SU
END:DAYLIGHT
BEGIN:STANDARD
TZOFFSETFROM:-0700
TZOFFSETTO:-0800
TZNAME:PST
DTSTART:19701101T020000
RRULE:FREQ=YEARLY;BYMONTH=11;BYDAY=1SU
END:STANDARD
END:VTIMEZONE
BEGIN:VEVENT
UID:1464587:Event:646237
DTSTAMP:20260421T083538Z
SUMMARY:Cam'ron plus The Underachievers, G Herbo, Smoke DZA, Nyck Caut
 ion
DESCRIPTION: \n\nSat, Jun 4, 2016 The Smokers Club Presents: Cam'ron 
 The Underachievers, G Herbo, Smoke DZA, Nyck Caution\nThe Regency Ball
 room 1300 Van Ness Avenue San Francisco, CA 94109 (415) 673-5716 Ages:
  All Ages Doors Open: 7:00PM. Show: 8:00PM Starting from: $30.00 Door 
 Price: Starting from: $35.00 Onsale: Fri, Apr 1, 2016 - 10:00AM PDT >>
  BUY TICKETS\n\n\n\nFor more information visit https://trueskool.com/e
 vents/cam-ron-plus-the-underachievers-g-herbo-smoke-dza-nyck-caution
DTSTART;TZID=America/Los_Angeles:20160604T190000
DTEND;TZID=America/Los_Angeles:20160604T230000
CATEGORIES:"bay area", "san francisco"
LOCATION:The Regency Ballroom, San Francisco
WEBSITE:http://www.axs.com/events/308635/cam-ron-tickets?cid=reg_smoke
 rsclub_trueskool
URL:http://www.axs.com/events/308635/cam-ron-tickets?cid=reg_smokerscl
 ub_trueskool
CONTACT:
ORGANIZER:Goldenvoice
ATTACH;FMTTYPE="image/jpeg":http://storage.ning.com/topology/rest/1.0/
 file/get/2247986624?profile=original
ATTENDEE;ROLE=REQ-PARTICIPANT;PARTSTAT=ACCEPTED;RSVP=TRUE;CN="Editor's
  Pick":https://trueskool.com/profile/RentheVinylArchaeologist
ATTENDEE;ROLE=REQ-PARTICIPANT;PARTSTAT=ACCEPTED;RSVP=TRUE;CN="Kaleb As
 kew":https://trueskool.com/profile/KalebAskew232
END:VEVENT
END:VCALENDAR
