BEGIN:VCALENDAR
PRODID:NingEventWidget-v1
VERSION:2.0
METHOD:PUBLISH
BEGIN:VTIMEZONE
TZID:America/Los_Angeles
X-LIC-LOCATION:America/Los_Angeles
BEGIN:DAYLIGHT
TZOFFSETFROM:-0800
TZOFFSETTO:-0700
TZNAME:PDT
DTSTART:19700308T020000
RRULE:FREQ=YEARLY;BYMONTH=3;BYDAY=2SU
END:DAYLIGHT
BEGIN:STANDARD
TZOFFSETFROM:-0700
TZOFFSETTO:-0800
TZNAME:PST
DTSTART:19701101T020000
RRULE:FREQ=YEARLY;BYMONTH=11;BYDAY=1SU
END:STANDARD
END:VTIMEZONE
BEGIN:VEVENT
UID:1464587:Event:39051
DTSTAMP:20260421T171115Z
SUMMARY:CakeMIX presents MASTERBLASTERS
DESCRIPTION:Thursday, September 10, is a special edition of CakeMIX du
 bbed \"MASTERBLASTERS\". With the special edition comes a special gues
 t, this nights guest will be none other than DJ ANT-1 from the Wild N 
 Krazy Kids and Risky Bizne$$ crew.\n\nhttp://www.myspace.com/riskybizn
 essproduc...\n\n\nThe night will feature classic hip hop, funk and sou
 l in classic CakeMIX fashion. We'll also be offering $5 Shot/Beer spec
 ial all night long. Music Starts at 10PM and we go straight till 2AM. 
 Come party!\n\n21+ | Never a Cover\n\nFor more information visit https
 ://trueskool.com/events/cakemix-presents
DTSTART;TZID=America/Los_Angeles:20090910T220000
DTEND;TZID=America/Los_Angeles:20090911T020000
CATEGORIES:hip, hop, funk, and, soul
LOCATION:WISH, San Francisco
WEBSITE:http://www.wishsf.com
URL:http://www.wishsf.com
CONTACT:
ORGANIZER;CN="Carey Kopp":https://trueskool.com/profile/k85
ATTACH;FMTTYPE="image/jpeg":http://storage.ning.com/topology/rest/1.0/
 file/get/2247865449?profile=original
ATTENDEE;ROLE=REQ-PARTICIPANT;PARTSTAT=ACCEPTED;RSVP=TRUE;CN="Carey Ko
 pp":https://trueskool.com/profile/k85
ATTENDEE;ROLE=REQ-PARTICIPANT;PARTSTAT=TENTATIVE;RSVP=TRUE;CN=StillRob
 G:https://trueskool.com/profile/StillRobG
END:VEVENT
END:VCALENDAR
